
BEGIN:VCALENDAR
VERSION:2.0
PRODID:-//The Green Man Store - ECPv6.15.17//NONSGML v1.0//EN
CALSCALE:GREGORIAN
METHOD:PUBLISH
X-WR-CALNAME:The Green Man Store
X-ORIGINAL-URL:https://thegreenmanstore.com
X-WR-CALDESC:Events for The Green Man Store
REFRESH-INTERVAL;VALUE=DURATION:PT1H
X-Robots-Tag:noindex
X-PUBLISHED-TTL:PT1H
BEGIN:VTIMEZONE
TZID:America/Los_Angeles
BEGIN:DAYLIGHT
TZOFFSETFROM:-0800
TZOFFSETTO:-0700
TZNAME:PDT
DTSTART:20240310T100000
END:DAYLIGHT
BEGIN:STANDARD
TZOFFSETFROM:-0700
TZOFFSETTO:-0800
TZNAME:PST
DTSTART:20241103T090000
END:STANDARD
BEGIN:DAYLIGHT
TZOFFSETFROM:-0800
TZOFFSETTO:-0700
TZNAME:PDT
DTSTART:20250309T100000
END:DAYLIGHT
BEGIN:STANDARD
TZOFFSETFROM:-0700
TZOFFSETTO:-0800
TZNAME:PST
DTSTART:20251102T090000
END:STANDARD
BEGIN:DAYLIGHT
TZOFFSETFROM:-0800
TZOFFSETTO:-0700
TZNAME:PDT
DTSTART:20260308T100000
END:DAYLIGHT
BEGIN:STANDARD
TZOFFSETFROM:-0700
TZOFFSETTO:-0800
TZNAME:PST
DTSTART:20261101T090000
END:STANDARD
END:VTIMEZONE
BEGIN:VEVENT
DTSTART;TZID=America/Los_Angeles:20250423T193000
DTEND;TZID=America/Los_Angeles:20250423T213000
DTSTAMP:20260423T143230
CREATED:20250226T000536Z
LAST-MODIFIED:20250226T000710Z
UID:10002732-1745436600-1745443800@thegreenmanstore.com
SUMMARY:Mediumship for Witches 1 with Melissa St. Hilaire (ZOOM ONLY)
DESCRIPTION:Mediumship for Witches – OFFERED ONLY ON ZOOM\nwith Melissa St. Hilaire\nA 6 week intensive workshop\, designed for any tradition that works with spirits.\nWednesdays 7:30 PM April 2-May 7 2025 \nAfter two years\, I’m finally bringing back my wildly popular Mediumship for Witches 1 series. Whether you’ve taken it before or have zero mediumship training\, this series will level up your abilities. \nIf you’ve taken the classes before\, the basic concepts will be the same\, but this time with brand new spells in the mix\, plus everything new I’ve learned in the past two years. If you haven’t attended\, I mix mediumship development with spellcrafting to enhance both. \nWhy is it that some can hear the dead but others can’t? Why do we hold seances? Can you speak with your ancestors? Do you have a spirit guide? \nHow can you use your mediumship to make your magick more powerful? And how can your craft aid you in developing your psychic and mediumship abilities? \nI hope to answer all these questions and more in a 6 week intensive workshop called\, Mediumship for Witches 1\, wherein you’ll learn how both practices can commingle well and enhance each other.\nEach class will begin with opening the circle\, lessons on what mediumship is\, and how to further your abilities\, as well as how to incorporate your witchcraft to empower both. We’ll close with mediumship training and spellcrafting. (Materials not provided. A list of ingredients needed will be given to all students.) \nWhether you’re a witch\, medium\, both\, or want to be\, whether you’re new to all of this or seasoned\, there will be something for all of you in this series. I’ll teach you how to better control your abilities with exercises you can practice alone at home\, over zoom with friends\, or in person\, as well as how to ritualize your readings to maximize your protection\, grounding\, and accuracy. \nJoin me as we journey into the land of spirit communication\, spells\, seances\, ancestral work\, and so much more in Mediumship for Witches 1! \nAlso\, after a short break\, Mediumship for Witches 2 will be offered for the first time in three years after completion of series 1! \nClass fee is $183 for the series. Single classes are not being offered for this series.  There will be handouts\, a workbook\, and guide book\, as well. \n**PLEASE NOTE: Payments for all Events\, Classes\, and Rituals at The Green Man are non-refundable.** \n\nTO REGISTER & PAY FOR THE SERIES ON ZOOM\, CLICK BELOW:
URL:https://thegreenmanstore.com/event/mediumship-for-witches-1-with-melissa-st-hilaire-zoom-only/2025-04-23/
LOCATION:The Green Man\, 824 North Hollywood Way\, Burbank\, CA\, 91505\, United States
CATEGORIES:Classes and Workshops,Psychics and Healers Calendar
ATTACH;FMTTYPE=image/jpeg:https://thegreenmanstore.com/wp-content/uploads/2025/02/PHOTO-2025-02-21-17-07-24.jpg
GEO:34.1744781;-118.3800964
X-APPLE-STRUCTURED-LOCATION;VALUE=URI;X-ADDRESS=The Green Man 824 North Hollywood Way Burbank CA 91505 United States;X-APPLE-RADIUS=500;X-TITLE=824 North Hollywood Way:geo:-118.3800964,34.1744781
END:VEVENT
BEGIN:VEVENT
DTSTART;TZID=America/Los_Angeles:20250426T120000
DTEND;TZID=America/Los_Angeles:20250426T170000
DTSTAMP:20260423T143230
CREATED:20250127T235109Z
LAST-MODIFIED:20250318T150503Z
UID:10002713-1745668800-1745686800@thegreenmanstore.com
SUMMARY:The Green Man Beltane Ritual with The Temple of Ced
DESCRIPTION:  \n \nThis year’s event is on Saturday April 26th! Gates open 12:00 pm. \nCome join us with the Green Man Pagan Community Tribe for a good old-fashioned Beltane Rite! \nThis celebration is not at the store\, but at a NEW OFFSITE LOCATION: We are returning to the beach location of our very first Green Man Beltane! This is the La Jolla Group Campsite in Pt. Mugu. Google Maps directions to the campsite:  https://www.google.com/maps/place/La+Jolla+Group+Campsite/@34.0859744\,-119.035042\,17z/data=!3m1!4b1!4m6!3m5!1s0x80e838a4c86ae483:0x51012d2f872616eb!8m2!3d34.0859744!4d-119.035042!16s%2Fg%2F1tc_fkzj?entry=ttu&g_ep=EgoyMDI1MDMxNi4wIKXMDSoASAFQAw%3D%3D \nNo charge for kids under 13. However\, a warning: It being Beltane & us being Pagans\, the theme of the festival may at times be a bit suggestive and adult; as long as you’re cool with that\, kids are most welcome & we expect there will be some present. \nThis is a picnic-type event and we encourage folks to bring some picnic eats for themselves to enjoy.  Also\, feel free to bring something for sharing on the Drinks table! Note: if you plan on drinking\, please also plan on having your own food to soak up some of that booze\, even if you do believe it actually helps your coordination for the Maypole! We have tried it sober & buzzed\, but the Maypole Dance just seems to crash into mayhem every year regardless! Also\, please bring camp chairs and/or picnic blankets to sit on. \nCome\, enjoy old world Pagan Pole dancing. Rub up against nature and a few frolicking nature lovers as we turn this year’s Wheel. And there can never be enough frolickers\, right? Come experience the singeing of your unspeakables as you jump the Beltane Fire! Beat the ground\, dance and make merry like a loon with bells on! Mischief\, mayhem\, what a pair\, a bawdy line twixt foul and fair! \nWe plan to start the festivities at around 1:00 pm with a drumming circle\, with our beloved drummer Goat! So please bring a drum or other favored noise maker and join the jam fest. Or wear something sexy so you can entertain the drummers with a dance! \n \n  \n  \nThe Ritual will kick off somewhere in the neighborhood of 3.00pm. I say somewhere in the neighborhood because pagans are notoriously late. And we are a large gathering\, so getting folks in just takes a bit more time! Plus\, festival leaders may be possessed by Faeries at this point\, so ballpark times is really the best we can hope for. \n  \nThe Main Rite is expected to go about an hour\, give or take\, depending on how lost we all get. After Ritual we can continue with feasting & socializing… Or perhaps\, if you like\, we can get into some more drumming? \nAgain: remember people this is Los Angeles and it can get hot. Please bring refreshments you would like to drink. AND out of respect to us\, please abide by the Law: people need to be over 21 to drink alcohol! Plus adults who are over 21\, please show the art of adulting by drinking responsibly so we can all get to have some fun. \nThis ritual is offsite & tickets pre-purchased are absolutely required. Tickets are available ONLY on The Green Man Store website\, and must be purchased NO LATER THAN 7PM THE DAY BEFORE THE EVENT. This event is one of the biggest and most popular of the year and tickets are limited\, so please secure your ticket early! Tickets are $35. \n**PLEASE NOTE: Payments for all Events\, Classes\, and Rituals at The Green Man are non-refundable.** \nPLEASE CLICK BELOW TO PURCHASE YOUR TICKET:
URL:https://thegreenmanstore.com/event/the-green-man-beltane-ritual-with-the-temple-of-ced-2025/
LOCATION:Private Location\, Check your ticket or call the store for address\, near Los Angeles\, CA\, United States
CATEGORIES:Group Rituals, Ceremonies, and Workings,Off-Site Event hosted by The Green Man,Sabbats
ATTACH;FMTTYPE=image/jpeg:https://thegreenmanstore.com/wp-content/uploads/2025/01/PHOTO-2025-03-17-15-32-03.jpg
GEO:34.0522342;-118.2436849
X-APPLE-STRUCTURED-LOCATION;VALUE=URI;X-ADDRESS=DESCRIPTION:  \n \nThis year’s event is on Saturday April 26th! Gates open 12:00 pm. \nCome join us with the Green Man Pagan Community Tribe for a good old-fashioned Beltane Rite! \nThis celebration is not at the store but at a NEW OFFSITE  We are returning to the beach location of our very first Green Man Beltane! This is the La Jolla Group Campsite in Pt. Mugu. Google Maps directions to the campsite:  https://www.google.com/maps/place/La+Jolla+Group+Campsite/@34.0859744-119.03504217z/data=!3m1!4b1!4m6!3m5!1s0x80e838a4c86ae483:0x51012d2f872616eb!8m2!3d34.0859744!4d-119.035042!16s%2Fg%2F1tc_fkzj?entry=ttu&g_ep=EgoyMDI1MDMxNi4wIKXMDSoASAFQAw%3D%3D \nNo charge for kids under 13. However a warning: It being Beltane & us being Pagans the theme of the festival may at times be a bit suggestive and adult; as long as you’re cool with that kids are most welcome & we expect there will be some present. \nThis is a picnic-type event and we encourage folks to bring some picnic eats for themselves to enjoy.  Also feel free to bring something for sharing on the Drinks table! Note: if you plan on drinking please also plan on having your own food to soak up some of that booze even if you do believe it actually helps your coordination for the Maypole! We have tried it sober & buzzed but the Maypole Dance just seems to crash into mayhem every year regardless! Also please bring camp chairs and/or picnic blankets to sit on. \nCome enjoy old world Pagan Pole dancing. Rub up against nature and a few frolicking nature lovers as we turn this year’s Wheel. And there can never be enough frolickers right? Come experience the singeing of your unspeakables as you jump the Beltane Fire! Beat the ground dance and make merry like a loon with bells on! Mischief mayhem what a pair a bawdy line twixt foul and fair! \nWe plan to start the festivities at around 1:00 pm with a drumming circle with our beloved drummer Goat! So please bring a drum or other favored noise maker and join the jam fest. Or wear something sexy so you can entertain the drummers with a dance! \n \n  \n  \nThe Ritual will kick off somewhere in the neighborhood of 3.00pm. I say somewhere in the neighborhood because pagans are notoriously late. And we are a large gathering so getting folks in just takes a bit more time! Plus festival leaders may be possessed by Faeries at this point so ballpark times is really the best we can hope for. \n  \nThe Main Rite is expected to go about an hour give or take depending on how lost we all get. After Ritual we can continue with feasting & socializing… Or perhaps if you like we can get into some more drumming? \nAgain: remember people this is Los Angeles and it can get hot. Please bring refreshments you would like to drink. AND out of respect to us please abide by the Law: people need to be over 21 to drink alcohol! Plus adults who are over 21 please show the art of adulting by drinking responsibly so we can all get to have some fun. \nThis ritual is offsite & tickets pre-purchased are absolutely required. Tickets are available ONLY on The Green Man Store website and must be purchased NO LATER THAN 7PM THE DAY BEFORE THE EVENT. This event is one of the biggest and most popular of the year and tickets are limited so please secure your ticket early! Tickets are $35. \n**PLEASE NOTE: Payments for all Events Classes and Rituals at The Green Man are non-refundable.** \nPLEASE CLICK BELOW TO PURCHASE YOUR TICKET:;X-APPLE-RADIUS=500;X-TITLE=Check your ticket or call the store for address:geo:-118.2436849,34.0522342
END:VEVENT
BEGIN:VEVENT
DTSTART;TZID=America/Los_Angeles:20250427T120000
DTEND;TZID=America/Los_Angeles:20250427T140000
DTSTAMP:20260423T143230
CREATED:20250320T150038Z
LAST-MODIFIED:20250320T150038Z
UID:10002752-1745755200-1745762400@thegreenmanstore.com
SUMMARY:Tarot Reading workshop with Vinny Gaglione
DESCRIPTION:Tarot Reading  4 Session Workshop with visiting guest teacher Vinny Gaglione \nWhether you are a beginner or an experienced reader\, this 4 session workshop is for you. You will learn how to read intuitivily as well as the Kabbalistic meaning of each card. Secret symbolism will be revealed that many of the most experienced readers don’t know about. You will also learn the history of tarot\, different layouts and techniques to read. There will be practical exercises and hands on practice under supervision. Please bring your own Rider Waite style tarot cards. \nAbout the teacher: Vinny is a High Priest of the Stregheria tradition\, a Babalawo of Santeria tradition\, and is also a 3rd degree Celtic Wiccan and an Astrologer. He has taught classes & workshops for decades at both Spellbound\, and Mansions of the Moon. He is also High Priest to our own in-house Strega\, Monica Sorce! He seldom visits the West Coast\, so take advantage of this opportunity to learn from him while you can! \n**PLEASE NOTE: Payments for all Events\, Classes\, and Rituals at The Green Man are non-refundable.** \n\nTO REGISTER & PAY FOR THIS CLASS ON ZOOM\, CLICK BELOW: \n\n\n\n    \n\n\n\n\n    \n\n\n\n\n    \n\n\n\n\n    \n\n\n\nTO REGISTER & PAY FOR THIS CLASS IN PERSON\, CLICK BELOW: \n\n\n\n    \n\n\n\n\n    \n\n\n\n\n    \n\n\n\n\n    \n\n\nTO REGISTER & PAY FOR THE FULL SERIES ON ZOOM\, CLICK BELOW: \n\n\n\n    \n\n\n\nTO REGISTER & PAY FOR THE FULL SERIES IN PERSON\, CLICK BELOW: \n\n\n\n    \n\n  \n\n 
URL:https://thegreenmanstore.com/event/tarot-reading-workshop-with-vinny-gaglione/2025-04-27/
LOCATION:The Green Man\, 824 North Hollywood Way\, Burbank\, CA\, 91505\, United States
CATEGORIES:Classes and Workshops
GEO:34.1744781;-118.3800964
X-APPLE-STRUCTURED-LOCATION;VALUE=URI;X-ADDRESS=The Green Man 824 North Hollywood Way Burbank CA 91505 United States;X-APPLE-RADIUS=500;X-TITLE=824 North Hollywood Way:geo:-118.3800964,34.1744781
END:VEVENT
END:VCALENDAR