
BEGIN:VCALENDAR
VERSION:2.0
PRODID:-//The Green Man Store - ECPv6.15.17//NONSGML v1.0//EN
CALSCALE:GREGORIAN
METHOD:PUBLISH
X-WR-CALNAME:The Green Man Store
X-ORIGINAL-URL:https://thegreenmanstore.com
X-WR-CALDESC:Events for The Green Man Store
REFRESH-INTERVAL;VALUE=DURATION:PT1H
X-Robots-Tag:noindex
X-PUBLISHED-TTL:PT1H
BEGIN:VTIMEZONE
TZID:America/Los_Angeles
BEGIN:DAYLIGHT
TZOFFSETFROM:-0800
TZOFFSETTO:-0700
TZNAME:PDT
DTSTART:20240310T100000
END:DAYLIGHT
BEGIN:STANDARD
TZOFFSETFROM:-0700
TZOFFSETTO:-0800
TZNAME:PST
DTSTART:20241103T090000
END:STANDARD
BEGIN:DAYLIGHT
TZOFFSETFROM:-0800
TZOFFSETTO:-0700
TZNAME:PDT
DTSTART:20250309T100000
END:DAYLIGHT
BEGIN:STANDARD
TZOFFSETFROM:-0700
TZOFFSETTO:-0800
TZNAME:PST
DTSTART:20251102T090000
END:STANDARD
BEGIN:DAYLIGHT
TZOFFSETFROM:-0800
TZOFFSETTO:-0700
TZNAME:PDT
DTSTART:20260308T100000
END:DAYLIGHT
BEGIN:STANDARD
TZOFFSETFROM:-0700
TZOFFSETTO:-0800
TZNAME:PST
DTSTART:20261101T090000
END:STANDARD
END:VTIMEZONE
BEGIN:VEVENT
DTSTART;TZID=America/Los_Angeles:20250415T193000
DTEND;TZID=America/Los_Angeles:20250415T213000
DTSTAMP:20260424T025015
CREATED:20250128T014509Z
LAST-MODIFIED:20250318T222715Z
UID:10002750-1744745400-1744752600@thegreenmanstore.com
SUMMARY:A Witch's Spirit Allies with Griffin & Carrie (Hybrid)
DESCRIPTION:In this series we will discuss the various ways we work with the many diverse spirits that are an intrinsic part of our craft. Each week will be dedicated to discussion of different kinds of spirits and how we work with them and will end with a Vision Quest experience to introduce us to them. \nThose of you who have joined us for classes before will know that Spirit is at the core of how our tradition works. Every series we teach has touched on each of these kinds of spirits as part of other classes. We figured it was time to give them each their own 2 hour class\, a bit more personal attention. Was it our Familiars pushing for that? Or our Patrons? It could have been any one or a number of allies! \nCarrie is a High Priestess\, Dame of the Ced Tradition and one of the Owners of The Green Man Store. Griffin is a Witch with decades of experience teaching and leading large groups in workings\, Witch Father of the Ced Tradition and Manager of the Green Man. We teach our classes in a fun\, informal yet informative manner. Come join us\, for the full series or a single class: \nWeek 1: An Intro to working with and perceiving spirits \nWeek 2: Plant Allies: Trees\, herbs\, flowers. \nWeek 3: Stone Allies: Crystals\, stones\, rocks \nWeek 4: Animal Allies vs. Familiars: vessels etc. \nWeek 5: Fetches: wards\, psychopomps\, vessels\, sigils \nWeek 6: Deities: gods\, goddesses\, patrons\, guides \n**PLEASE NOTE: Payments for all Events\, Classes\, and Rituals at The Green Man are non-refundable.** \nVideos will be available for a short time on the Mighty Network for those who register for the full series. \nTO REGISTER & PAY FOR THE SERIES ON ZOOM\, CLICK BELOW: \n\n\n\n    \n\nTO REGISTER & PAY FOR THE SERIES IN PERSON\, CLICK BELOW: \n\n\n\n    \n \nTO REGISTER & PAY FOR THIS CLASS ON ZOOM\, CLICK BELOW: \n\n\n\n    \n\nTO REGISTER & PAY FOR THIS CLASS IN PERSON\, CLICK BELOW:
URL:https://thegreenmanstore.com/event/a-witchs-spirit-allies-with-griffin-carrie-hybrid/2025-04-15/
LOCATION:The Green Man\, 824 North Hollywood Way\, Burbank\, CA\, 91505\, United States
CATEGORIES:Classes and Workshops
ATTACH;FMTTYPE=image/jpeg:https://thegreenmanstore.com/wp-content/uploads/2025/01/PHOTO-2025-01-23-12-00-38.jpg
GEO:34.1744781;-118.3800964
X-APPLE-STRUCTURED-LOCATION;VALUE=URI;X-ADDRESS=The Green Man 824 North Hollywood Way Burbank CA 91505 United States;X-APPLE-RADIUS=500;X-TITLE=824 North Hollywood Way:geo:-118.3800964,34.1744781
END:VEVENT
BEGIN:VEVENT
DTSTART;TZID=America/Los_Angeles:20250416T193000
DTEND;TZID=America/Los_Angeles:20250416T213000
DTSTAMP:20260424T025015
CREATED:20250226T000536Z
LAST-MODIFIED:20250226T000710Z
UID:10002731-1744831800-1744839000@thegreenmanstore.com
SUMMARY:Mediumship for Witches 1 with Melissa St. Hilaire (ZOOM ONLY)
DESCRIPTION:Mediumship for Witches – OFFERED ONLY ON ZOOM\nwith Melissa St. Hilaire\nA 6 week intensive workshop\, designed for any tradition that works with spirits.\nWednesdays 7:30 PM April 2-May 7 2025 \nAfter two years\, I’m finally bringing back my wildly popular Mediumship for Witches 1 series. Whether you’ve taken it before or have zero mediumship training\, this series will level up your abilities. \nIf you’ve taken the classes before\, the basic concepts will be the same\, but this time with brand new spells in the mix\, plus everything new I’ve learned in the past two years. If you haven’t attended\, I mix mediumship development with spellcrafting to enhance both. \nWhy is it that some can hear the dead but others can’t? Why do we hold seances? Can you speak with your ancestors? Do you have a spirit guide? \nHow can you use your mediumship to make your magick more powerful? And how can your craft aid you in developing your psychic and mediumship abilities? \nI hope to answer all these questions and more in a 6 week intensive workshop called\, Mediumship for Witches 1\, wherein you’ll learn how both practices can commingle well and enhance each other.\nEach class will begin with opening the circle\, lessons on what mediumship is\, and how to further your abilities\, as well as how to incorporate your witchcraft to empower both. We’ll close with mediumship training and spellcrafting. (Materials not provided. A list of ingredients needed will be given to all students.) \nWhether you’re a witch\, medium\, both\, or want to be\, whether you’re new to all of this or seasoned\, there will be something for all of you in this series. I’ll teach you how to better control your abilities with exercises you can practice alone at home\, over zoom with friends\, or in person\, as well as how to ritualize your readings to maximize your protection\, grounding\, and accuracy. \nJoin me as we journey into the land of spirit communication\, spells\, seances\, ancestral work\, and so much more in Mediumship for Witches 1! \nAlso\, after a short break\, Mediumship for Witches 2 will be offered for the first time in three years after completion of series 1! \nClass fee is $183 for the series. Single classes are not being offered for this series.  There will be handouts\, a workbook\, and guide book\, as well. \n**PLEASE NOTE: Payments for all Events\, Classes\, and Rituals at The Green Man are non-refundable.** \n\nTO REGISTER & PAY FOR THE SERIES ON ZOOM\, CLICK BELOW:
URL:https://thegreenmanstore.com/event/mediumship-for-witches-1-with-melissa-st-hilaire-zoom-only/2025-04-16/
LOCATION:The Green Man\, 824 North Hollywood Way\, Burbank\, CA\, 91505\, United States
CATEGORIES:Classes and Workshops,Psychics and Healers Calendar
ATTACH;FMTTYPE=image/jpeg:https://thegreenmanstore.com/wp-content/uploads/2025/02/PHOTO-2025-02-21-17-07-24.jpg
GEO:34.1744781;-118.3800964
X-APPLE-STRUCTURED-LOCATION;VALUE=URI;X-ADDRESS=The Green Man 824 North Hollywood Way Burbank CA 91505 United States;X-APPLE-RADIUS=500;X-TITLE=824 North Hollywood Way:geo:-118.3800964,34.1744781
END:VEVENT
BEGIN:VEVENT
DTSTART;TZID=America/Los_Angeles:20250418T193000
DTEND;TZID=America/Los_Angeles:20250418T220000
DTSTAMP:20260424T025015
CREATED:20250331T155424Z
LAST-MODIFIED:20250331T155424Z
UID:10002756-1745004600-1745013600@thegreenmanstore.com
SUMMARY:Lilith Vision Quest with Griffin & Carrie
DESCRIPTION:Lilith Vision Quest: Presented by Griffin & Carrie.\nA Hybrid Event: Live in person & Zoom!\nFriday April 18th 8pm start \nContinuing our mayhem and liberty spring theme\, we move from the Mad March Hare to the April Fool\, who finds both power and liberty through being the outcast—a timely theme for our greater pagan community these days\, we feel. \nAnd in that theme\, there is not a God or Goddess who better exemplifies the true spirit of liberty found through the exercising of Free Will\, than the mother of outcasts herself\, Lilith! She embodies the two most important traits for a Witch: the employing of Free Will which is at the root of Magic\, and the out-of-the box liberty that the practice of Witchcraft brings. Lillith is also known as the mother of all creations\, the good and the eff-ups.  But most importantly\, she shows us that taking personal responsibility\, addressing one’s mistakes\, makes it possible to reclaim one’s power and make what corrections are needed in the creation of one’s world. However\, alas\, she is misunderstood and demonized for embodying the integrity that others lack or fear to muster.  Come and see how Lillith may help you claim your power and become a powerful co-creator of your reality! \nGeneral notes about these workings: akin to the Quest for the Grail achieved through Vision\, these popular Vision Quest workings serve to help awaken the Sight and Gifts in the Seeker\, offering a number of opportunities to connect with various divine spirits and receive gnostic insight into your Fate\, Path and practices\, both within your mundane world as well as your Magic. \nPlease arrive at 7:30 for an 8pm start. \n*ZOOM PARTICIPANTS PLEASE NOTE: We will open the Zoom meeting at 7:30\, but will start at 8pm PROMPT. \n*IN PERSON PARTICIPANTS PLEASE NOTE: The temple space is not carpeted\, and bringing a pillow or yoga blanket or something comfortable to sit on is recommended. \nAlso\, please bring a salty snack to share for after the Vision Quest. These can be powerful workings\, so we recommend that you please be prepared to stay and engage in the after-Quest discussion while you ground and perhaps receive clarity on any insights you may have received. \nSpace in person is limited and Vision Quests tend to sell out fast! \nWe have a two-tier system for payment:\nIn person cost $33\nOn Zoom cost $28\n**PLEASE NOTE: Payments for all Events\, Classes\, and Rituals at The Green Man are non-refundable.** \nTO REGISTER FOR THIS EVENT ON ZOOM\, CLICK BELOW: \n\n\n\n    \n\nTO REGISTER FOR THIS EVENT IN PERSON\, CLICK BELOW:
URL:https://thegreenmanstore.com/event/lilith-vision-quest-with-griffin-carrie/
LOCATION:The Green Man\, 824 North Hollywood Way\, Burbank\, CA\, 91505\, United States
CATEGORIES:Classes and Workshops,Group Rituals, Ceremonies, and Workings
ATTACH;FMTTYPE=image/jpeg:https://thegreenmanstore.com/wp-content/uploads/2025/03/PHOTO-2025-03-26-18-16-36.jpg
GEO:34.1744781;-118.3800964
X-APPLE-STRUCTURED-LOCATION;VALUE=URI;X-ADDRESS=The Green Man 824 North Hollywood Way Burbank CA 91505 United States;X-APPLE-RADIUS=500;X-TITLE=824 North Hollywood Way:geo:-118.3800964,34.1744781
END:VEVENT
END:VCALENDAR