
BEGIN:VCALENDAR
VERSION:2.0
PRODID:-//The Green Man Store - ECPv6.15.17//NONSGML v1.0//EN
CALSCALE:GREGORIAN
METHOD:PUBLISH
X-WR-CALNAME:The Green Man Store
X-ORIGINAL-URL:https://thegreenmanstore.com
X-WR-CALDESC:Events for The Green Man Store
REFRESH-INTERVAL;VALUE=DURATION:PT1H
X-Robots-Tag:noindex
X-PUBLISHED-TTL:PT1H
BEGIN:VTIMEZONE
TZID:America/Los_Angeles
BEGIN:DAYLIGHT
TZOFFSETFROM:-0800
TZOFFSETTO:-0700
TZNAME:PDT
DTSTART:20240310T100000
END:DAYLIGHT
BEGIN:STANDARD
TZOFFSETFROM:-0700
TZOFFSETTO:-0800
TZNAME:PST
DTSTART:20241103T090000
END:STANDARD
BEGIN:DAYLIGHT
TZOFFSETFROM:-0800
TZOFFSETTO:-0700
TZNAME:PDT
DTSTART:20250309T100000
END:DAYLIGHT
BEGIN:STANDARD
TZOFFSETFROM:-0700
TZOFFSETTO:-0800
TZNAME:PST
DTSTART:20251102T090000
END:STANDARD
BEGIN:DAYLIGHT
TZOFFSETFROM:-0800
TZOFFSETTO:-0700
TZNAME:PDT
DTSTART:20260308T100000
END:DAYLIGHT
BEGIN:STANDARD
TZOFFSETFROM:-0700
TZOFFSETTO:-0800
TZNAME:PST
DTSTART:20261101T090000
END:STANDARD
END:VTIMEZONE
BEGIN:VEVENT
DTSTART;TZID=America/Los_Angeles:20250311T193000
DTEND;TZID=America/Los_Angeles:20250311T213000
DTSTAMP:20260425T032053
CREATED:20250128T014509Z
LAST-MODIFIED:20250318T222715Z
UID:10002720-1741721400-1741728600@thegreenmanstore.com
SUMMARY:A Witch's Spirit Allies with Griffin & Carrie (Hybrid)
DESCRIPTION:In this series we will discuss the various ways we work with the many diverse spirits that are an intrinsic part of our craft. Each week will be dedicated to discussion of different kinds of spirits and how we work with them and will end with a Vision Quest experience to introduce us to them. \nThose of you who have joined us for classes before will know that Spirit is at the core of how our tradition works. Every series we teach has touched on each of these kinds of spirits as part of other classes. We figured it was time to give them each their own 2 hour class\, a bit more personal attention. Was it our Familiars pushing for that? Or our Patrons? It could have been any one or a number of allies! \nCarrie is a High Priestess\, Dame of the Ced Tradition and one of the Owners of The Green Man Store. Griffin is a Witch with decades of experience teaching and leading large groups in workings\, Witch Father of the Ced Tradition and Manager of the Green Man. We teach our classes in a fun\, informal yet informative manner. Come join us\, for the full series or a single class: \nWeek 1: An Intro to working with and perceiving spirits \nWeek 2: Plant Allies: Trees\, herbs\, flowers. \nWeek 3: Stone Allies: Crystals\, stones\, rocks \nWeek 4: Animal Allies vs. Familiars: vessels etc. \nWeek 5: Fetches: wards\, psychopomps\, vessels\, sigils \nWeek 6: Deities: gods\, goddesses\, patrons\, guides \n**PLEASE NOTE: Payments for all Events\, Classes\, and Rituals at The Green Man are non-refundable.** \nVideos will be available for a short time on the Mighty Network for those who register for the full series. \nTO REGISTER & PAY FOR THE SERIES ON ZOOM\, CLICK BELOW: \n\n\n\n    \n\nTO REGISTER & PAY FOR THE SERIES IN PERSON\, CLICK BELOW: \n\n\n\n    \n \nTO REGISTER & PAY FOR THIS CLASS ON ZOOM\, CLICK BELOW: \n\n\n\n    \n\nTO REGISTER & PAY FOR THIS CLASS IN PERSON\, CLICK BELOW:
URL:https://thegreenmanstore.com/event/a-witchs-spirit-allies-with-griffin-carrie-hybrid/2025-03-11/
LOCATION:The Green Man\, 824 North Hollywood Way\, Burbank\, CA\, 91505\, United States
CATEGORIES:Classes and Workshops
ATTACH;FMTTYPE=image/jpeg:https://thegreenmanstore.com/wp-content/uploads/2025/01/PHOTO-2025-01-23-12-00-38.jpg
GEO:34.1744781;-118.3800964
X-APPLE-STRUCTURED-LOCATION;VALUE=URI;X-ADDRESS=The Green Man 824 North Hollywood Way Burbank CA 91505 United States;X-APPLE-RADIUS=500;X-TITLE=824 North Hollywood Way:geo:-118.3800964,34.1744781
END:VEVENT
BEGIN:VEVENT
DTSTART;TZID=America/Los_Angeles:20250312T193000
DTEND;TZID=America/Los_Angeles:20250312T213000
DTSTAMP:20260425T032053
CREATED:20241204T021844Z
LAST-MODIFIED:20241204T022417Z
UID:10002683-1741807800-1741815000@thegreenmanstore.com
SUMMARY:Traditional Astrology for Witches PART 3 hybrid class series with Jerel
DESCRIPTION:Traditional Astrology for Witches:\nAn Introductory Crash-Course to Natal Chart Analysis & Interpretation\n(Part 3 – Practicum in Mitigation & Synthesis)\nA 4-week Hybrid Series w/ Jerel\nWednesday Nights at 7:30pm PST\nMar 5 – 26\, 2024\n$38 single class / $143 (Part 3) series price\n\n* “Traditional Astrology for Witches” is a cumulative course\, which has been divided in to 3 Parts. This 4-Week course is a continuation from Part 2. It is a Hybrid Series; to be presented on Zoom\, and In-Person at The Green Man Store\, Wednesday Nights at 7:30pmPST\, between 3/5/24 – 3/26/24.  Students who have paid for the full series will have access to the class recordings through The Mighty Network throughout the duration of the series\, and for a limited time after the series has concluded.*\n\nUp until this point in this course\, we have had a thorough overview of all the foundational concepts within traditional perspectives of astrology. With an understanding of the planets\, signs\, essential dignity\, aspects and houses\, we can now explore intermediate concepts and techniques in astrological analyses and interpretations.\n\nIn Part 3 of this course\, we will explore the complex nuances within nativities\, which can prove or disprove the results or expectations of our initial impressions. We will also discuss ways to approach prediction\, pathworking and magical timing through fleshing out our understanding of transits\, elections and horoscopes. But most importantly\, we will workshop these approaches and techniques through cultivating our practice in synthesizing all of the concepts previously learned in this most sophisticated system – this language of the stars!\n\n(Please come to class prepared with whatever items you need for notetaking. Throughout the series I will also be providing you with additional study materials (PDF Handouts\, Charts & Tables\, Homework Exercises\, Quizzes\, and Video Study Guides.)\n\nFor reference\, listed below are the class topics set for all three parts of the course:\nPart 1 – Class Topics:\n1/8: Class 1 – The Planets & Sect\n1/15: Class 2 – Anatomy of a Zodiacal Sign\n1/22: Class 3 – Essential Dignity\n1/29: Class 4 – Nativity Lords & Reception\nPart 2 – Class Topics:\n2/5: Class 5 – Aspects & Orbs\n2/12: Class 6 – Planetary Cycles & Movement\n2/19: Class 7 – The Houses: Concepts & Systems\n2/26: Class 8 – The Houses: Interpretation Techniques\nPart 3 – Class Topics:\n3/5: Class 9 – Bonification & Maltreatment\n3/12: Class 10 – Horoscopic & Predictive Techniques\n3/19: Class 11 – Practice with Interpretation & Analysis\n3/26: Class 12 – Synthesis\n\n\n\n**PLEASE NOTE: Payments for all Events\, Classes\, and Rituals at The Green Man are non-refundable.** \nVideos will be available for a short time on the Mighty Network for those who register for the full series. \nTO REGISTER & PAY FOR THE SERIES ON ZOOM\, CLICK BELOW: \n\n\n\n    \n\nTO REGISTER & PAY FOR THE SERIES IN PERSON\, CLICK BELOW: \n\n\n\n    \n\nTO REGISTER & PAY FOR THIS CLASS ON ZOOM\, CLICK BELOW: \n\n\n\n    \n\nTO REGISTER & PAY FOR THIS CLASS IN PERSON\, CLICK BELOW: \n\n\n\n    \n\n 
URL:https://thegreenmanstore.com/event/traditional-astrology-for-witches-part-3-hybrid-class-series-with-jerel/2025-03-12/
LOCATION:The Green Man\, 824 North Hollywood Way\, Burbank\, CA\, 91505\, United States
CATEGORIES:Classes and Workshops
ATTACH;FMTTYPE=image/jpeg:https://thegreenmanstore.com/wp-content/uploads/2024/12/PHOTO-2024-12-02-19-12-30.jpg
GEO:34.1744781;-118.3800964
X-APPLE-STRUCTURED-LOCATION;VALUE=URI;X-ADDRESS=The Green Man 824 North Hollywood Way Burbank CA 91505 United States;X-APPLE-RADIUS=500;X-TITLE=824 North Hollywood Way:geo:-118.3800964,34.1744781
END:VEVENT
BEGIN:VEVENT
DTSTART;TZID=America/Los_Angeles:20250313T193000
DTEND;TZID=America/Los_Angeles:20250313T213000
DTSTAMP:20260425T032053
CREATED:20250121T191310Z
LAST-MODIFIED:20250121T191310Z
UID:10002709-1741894200-1741901400@thegreenmanstore.com
SUMMARY:Introduction to Shamanism with Jerel
DESCRIPTION:AN INTRODUCTION TO SHAMANISM\nA 6-Week (In-Person) Workshop Series with Jerel\nThursday Nights @ 7:30pm\nFebruary 20 – March 27\, 2025 \nShamanism is an earth/ nature-based spiritual path found in many indigenous\, as well as modern\, traditions around the world. Throughout history the shaman was someone who\, within their tribe or community\, played many roles: healer\, diviner\, storyteller\, counselor\, priest\, leader. As such\, Shamans have been able to guide and heal their communities through their connection with spirits of the land\, their skill in tracking problematic patterns and energies\, and their ability to travel between the spirit realms. Presently\, there has been a resurgence of interest for Shamanism\, leading many people onto a path of healing and growth through reclaiming their lives on a physical\, emotional and spiritual level. \nIf you are new to Shamanism\, or simply want to learn more about it\, this series will help you cultivate an understanding of a Shamanic worldview. In this series we will explore and discuss the various commonalities amongst Shamanic traditions from around the world\, and demonstrate simple ways in which you may incorporate Shamanic practices and skills into your own spiritual practices and everyday lives. \nThis will be a 6-Week In-Person Class Series\, wherein each class will meet every Thursday night between February 20 to March 27\, from 7:30pm – 10pm. Throughout the series\, each class will delve into a fundamental topic within the study of Shamanism. Each class is presented as it’s own “stand-alone” workshop within a series of workshops centered around a central theme. In this case\, “An Introduction to Shamanism” is a course about Spirit Work – how we may connect to the spirit guides and allies all around us. Needless to say\, the option of “dropping in” at any point in the series is openly encouraged\, especially if there are isolated topics\, practices and techniques you are specifically focused on learning. However\, all of the class topics in the series are quite supportive for a foundational study in shamanic practice\, and I highly recommended everyone to attend all classes in the series. \nWorkshop Topics: \n2/20: Class 1 – Shamanism & The Web of Life\nWhat is Shamanism? What is a shaman? In this introductory class will discuss questions like these\, as well as explore general themes\, perspectives\, and concepts within a shamanic practice. In this workshop\, we will also present a few practical techniques in staying grounded\, expanding vision\, and cultivating our work with spirit\, as we learn to connect with “The Web of Life.” \n2/27: Class 2 – Shamanic Journeying Workshop\nShamanic Journeying is a powerful practice which involves entering an altered state of consciousness to connect and interact with the spirit realms for insight\, guidance and healing. We will discuss the various ways this can be practiced and achieved\, as well as what to expect\, and how to translate and interpret the visions\, messages and “medicines” we receive\, as we learn to journey into the non-ordinary realms. \n3/6: Class 3 – Spirit Work with Plant Allies\nEvery shamanic culture around the world has a practice around working with plants as spirit allies. Unlike other spirits we may come across\, we have a special relationship to plants in the ways we may physically\, as well as spiritually\, interact with them. In this workshop we will explore different techniques and perspectives in which we may connect with these subtle spirits and their powerful medicines. \n3/13: Class 4 – Power Animals\, Totems and Spirit Guides\nThroughout history every culture around the world has had a unique connection to animals as archetypal symbols of wisdom\, power\, healing\, and character. When we observe these spirits in nature\, or interact with them in the non-ordinary realm\, we find invaluable opportunities to take in their guidance\, allyship and medicine in ways which help us to expand our awareness and personal evolution. In this workshop\, learn how to discover and connect to the animal guides and totems who walk by your side. \n3/20: Class 5 – Navigating The Medicine Wheel\nThe concept of the medicine wheel is more than a symbol of wisdom\, it is also the key to practical systems of ancient medicines\, which can elevate one’s vision and connection to time\, nature\, community\, and the land. In this workshop\, we will learn how to identify and organize the principles and archetypes within our own inner compasses\, to frame a better understanding of our cosmological perspectives\, while connecting to the spirits of the land. \n3/27: Class 6 – Shamanic Pathworking & Integration\nThe shamanic path is often perceived a special calling. Yes\, it is and can be\, but in truth\, it is also a choice\, a stewardship\, a story. Spirit Work is more than just learning to connect with spirits around and within you\, it is also about applying and integrating the many lessons and wisdoms you encounter along the way. In this workshop\, we will explore ways we may shift our spirit\, carry our stories\, and deepen our relationship to the most important spirit we will ever know – our own! \nPrice:\n$33/ class; $153/ full series\nIt is possible to upgrade from a single-class payment to the full series before the start of the second class. \n**PLEASE NOTE: Payments for all Events\, Classes\, and Rituals at The Green Man are non-refundable.** \nTO REGISTER & PAY FOR THIS CLASS\, CLICK BELOW: \n\n\n\n    \n\nTO REGISTER & PAY FOR THE FULL SERIES\, CLICK BELOW:
URL:https://thegreenmanstore.com/event/introduction-to-shamanism-with-jerel/2025-03-13/
LOCATION:The Green Man\, 824 North Hollywood Way\, Burbank\, CA\, 91505\, United States
CATEGORIES:Classes and Workshops
ATTACH;FMTTYPE=image/jpeg:https://thegreenmanstore.com/wp-content/uploads/2025/01/927d466c-99b1-469b-83cc-19fdbf55ea18.jpg
GEO:34.1744781;-118.3800964
X-APPLE-STRUCTURED-LOCATION;VALUE=URI;X-ADDRESS=The Green Man 824 North Hollywood Way Burbank CA 91505 United States;X-APPLE-RADIUS=500;X-TITLE=824 North Hollywood Way:geo:-118.3800964,34.1744781
END:VEVENT
BEGIN:VEVENT
DTSTART;TZID=America/Los_Angeles:20250314T193000
DTEND;TZID=America/Los_Angeles:20250314T220000
DTSTAMP:20260425T032053
CREATED:20250224T163008Z
LAST-MODIFIED:20250224T163008Z
UID:10002727-1741980600-1741989600@thegreenmanstore.com
SUMMARY:Lucifer's Serpents Vision Quest with Griffin & Carrie (HYBRID)
DESCRIPTION:LUCIFER’S SERPENTS Vision Quest.\nPresented by Griffin & Carrie.\nA Hybrid Event: Live in person & Zoom!\nFriday March 14th 8pm \nKicking off St. Patrick’s Day weekend\, in honor of the Serpents\, seemed timely to say the least! For those who don’t know the background legend to this: St. Patrick was a 5th century Christian missionary in Ireland. During his time there\, he is claimed to have driven all the snakes out of Ireland. As experts believe that there never were snakes in Ireland\, this story is understood as a metaphor\, symbolizing the eradication of paganism and the spread of Christianity throughout Ireland. As Pagans\, we have something to say about this!\nWithin the old mythology & mysteries\, Serpents often represent the emissary of insight & inspiration that enables a paradigm shift in awareness. Serpents are often associated with Lucifer\, a Roman God representing Venus\, Morning Star\, Lord of Illumination. More importantly he presents the Esoteric Illumination associated with the Venus Mysteries\, and his Serpents are the Crooked Folk who bring change\, progress in awareness\, & insight into the ways of the world that needs to be challenged. We the Pagan Witches are the Crooked Folk\, Wise Ones\, Serpents of Lucifer! And as we again feel the winds of oppressive change coming\, this time we have no interest in being driven out! \nGeneral notes about these workings: akin to the Quest for the Grail achieved through Vision\, these popular Vision Quest workings serve to help awaken the Sight and Gifts in the Seeker\, offering a number of opportunities to connect with various divine spirits and receive gnostic insight into your Fate\, Path and practices\, both within your mundane world as well as your Magic.\nPlease arrive at 7:30 for an 8pm start. \n*ZOOM PARTICIPANTS PLEASE NOTE: We will open the Zoom meeting at 7:30\, but will start at 8pm PROMPT. \n*IN PERSON PARTICIPANTS PLEASE NOTE: The temple space is not carpeted\, and bringing a pillow or yoga blanket or something comfortable to sit on is recommended.\nAlso\, please bring a salty snack to share for after the Vision Quest. \nThese can be powerful workings\, so we recommend that you please be prepared to stay and engage in the after-Quest discussion while you ground and perhaps receive clarity on any insights you may have received.\nSpace in person is limited and Vision Quests tend to sell out fast! \nWe have a two-tier system for payment:\nIn person cost $33\nOn Zoom cost $28\n**PLEASE NOTE: Payments for all Events\, Classes\, and Rituals at The Green Man are non-refundable.** \nTO REGISTER & PAY FOR THIS EVENT ON ZOOM\, CLICK BELOW: \n\n\n\n    \n\nTO REGISTER & PAY FOR THIS EVENT IN PERSON\, CLICK BELOW:
URL:https://thegreenmanstore.com/event/lucifers-serpents-vision-quest-with-griffin-carrie-hybrid/
LOCATION:The Green Man\, 824 North Hollywood Way\, Burbank\, CA\, 91505\, United States
CATEGORIES:Classes and Workshops,Group Rituals, Ceremonies, and Workings
ATTACH;FMTTYPE=application/pdf:https://thegreenmanstore.com/wp-content/uploads/2025/02/Lucifers-Serpents-VQ.pdf
GEO:34.1744781;-118.3800964
X-APPLE-STRUCTURED-LOCATION;VALUE=URI;X-ADDRESS=The Green Man 824 North Hollywood Way Burbank CA 91505 United States;X-APPLE-RADIUS=500;X-TITLE=824 North Hollywood Way:geo:-118.3800964,34.1744781
END:VEVENT
BEGIN:VEVENT
DTSTART;TZID=America/Los_Angeles:20250316T120000
DTEND;TZID=America/Los_Angeles:20250316T140000
DTSTAMP:20260425T032053
CREATED:20250128T010020Z
LAST-MODIFIED:20250312T222226Z
UID:10002742-1742126400-1742133600@thegreenmanstore.com
SUMMARY:The Spirit in the Flame: Candle Magic Hybrid Series with Linda
DESCRIPTION:4-Weeks on Sundays\, 12pm Hybrid \nClass Description: The Spirit in the Flame \nWhether you’re a beginner or an experienced practitioner\, this course will guide you through the art of working with candles to manifest your desires\, connect with spirit energies\, and craft powerful spells. \nOver the course of four weeks\, you’ll explore: \n•⁠ ⁠The foundations and history of candle magic tracing its roots across different magical traditions and understanding its enduring power. \n•⁠ ⁠Understanding correspondences\, including color symbolism\, planetary alignments\, and elemental associations. \n•⁠ ⁠Practical skills such as Preparing\, anointing\, and dressing candles with oils\, herbs\, and sigils to amplify your intentions. \n•⁠ ⁠Advanced techniques\, including magical timing\, flame and wax readings\, and creating layered\, multi-step rituals for complex goals. \nEach week combines engaging lectures with hands-on exercises\, empowering you to deepen your skills and confidence. From selecting the right ingredients to divination through flame and wax\, you’ll leave with the tools and knowledge to make candle magic an integral part of your spell crafting practice. \nThis course also offers a perspective on how candle magic is practiced in different traditions with a focus on Traditional Craft helping you find techniques that resonate with your path. \nWhat You’ll Gain:\n•⁠ ⁠A solid foundation in candle magic practices\n•⁠ ⁠The ability to create and execute personalized spells\n•⁠ ⁠Insight into timing your magic with lunar and planetary cycles\n•⁠ ⁠Techniques to interpret the signs and outcomes of your spells \nThis is more than a class; it’s an opportunity to ignite your inner flame and bring light to your intentions. Spaces are limited\, so reserve your spot today and let The Spirit in the Flame guide your magical journey. \nSingle Class – $33 in-person\, $28 online\nSeries $123 in-person\, $103 online \n**PLEASE NOTE: Payments for all Events\, Classes\, and Rituals at The Green Man are non-refundable.** \nTO REGISTER & PAY FOR THE SERIES ON ZOOM\, CLICK BELOW: \n\n\n\n    \n\nTO REGISTER & PAY FOR THE SERIES IN PERSON\, CLICK BELOW: \n\n\n\n    \n \nTO REGISTER & PAY FOR THIS CLASS ON ZOOM\, CLICK BELOW: \n\n\n\n    \n\nTO REGISTER & PAY FOR THIS CLASS IN PERSON\, CLICK BELOW:
URL:https://thegreenmanstore.com/event/candle-magic-series-with-linda-2/2025-03-16/
LOCATION:The Green Man\, 824 North Hollywood Way\, Burbank\, CA\, 91505\, United States
CATEGORIES:Classes and Workshops
ATTACH;FMTTYPE=image/jpeg:https://thegreenmanstore.com/wp-content/uploads/2025/01/PHOTO-2025-01-27-18-03-43.jpg
GEO:34.1744781;-118.3800964
X-APPLE-STRUCTURED-LOCATION;VALUE=URI;X-ADDRESS=The Green Man 824 North Hollywood Way Burbank CA 91505 United States;X-APPLE-RADIUS=500;X-TITLE=824 North Hollywood Way:geo:-118.3800964,34.1744781
END:VEVENT
END:VCALENDAR