
BEGIN:VCALENDAR
VERSION:2.0
PRODID:-//The Green Man Store - ECPv6.15.17//NONSGML v1.0//EN
CALSCALE:GREGORIAN
METHOD:PUBLISH
X-WR-CALNAME:The Green Man Store
X-ORIGINAL-URL:https://thegreenmanstore.com
X-WR-CALDESC:Events for The Green Man Store
REFRESH-INTERVAL;VALUE=DURATION:PT1H
X-Robots-Tag:noindex
X-PUBLISHED-TTL:PT1H
BEGIN:VTIMEZONE
TZID:America/Los_Angeles
BEGIN:DAYLIGHT
TZOFFSETFROM:-0800
TZOFFSETTO:-0700
TZNAME:PDT
DTSTART:20240310T100000
END:DAYLIGHT
BEGIN:STANDARD
TZOFFSETFROM:-0700
TZOFFSETTO:-0800
TZNAME:PST
DTSTART:20241103T090000
END:STANDARD
BEGIN:DAYLIGHT
TZOFFSETFROM:-0800
TZOFFSETTO:-0700
TZNAME:PDT
DTSTART:20250309T100000
END:DAYLIGHT
BEGIN:STANDARD
TZOFFSETFROM:-0700
TZOFFSETTO:-0800
TZNAME:PST
DTSTART:20251102T090000
END:STANDARD
BEGIN:DAYLIGHT
TZOFFSETFROM:-0800
TZOFFSETTO:-0700
TZNAME:PDT
DTSTART:20260308T100000
END:DAYLIGHT
BEGIN:STANDARD
TZOFFSETFROM:-0700
TZOFFSETTO:-0800
TZNAME:PST
DTSTART:20261101T090000
END:STANDARD
END:VTIMEZONE
BEGIN:VEVENT
DTSTART;TZID=America/Los_Angeles:20250305T193000
DTEND;TZID=America/Los_Angeles:20250305T213000
DTSTAMP:20260425T045801
CREATED:20241204T021844Z
LAST-MODIFIED:20241204T022417Z
UID:10002682-1741203000-1741210200@thegreenmanstore.com
SUMMARY:Traditional Astrology for Witches PART 3 hybrid class series with Jerel
DESCRIPTION:Traditional Astrology for Witches:\nAn Introductory Crash-Course to Natal Chart Analysis & Interpretation\n(Part 3 – Practicum in Mitigation & Synthesis)\nA 4-week Hybrid Series w/ Jerel\nWednesday Nights at 7:30pm PST\nMar 5 – 26\, 2024\n$38 single class / $143 (Part 3) series price\n\n* “Traditional Astrology for Witches” is a cumulative course\, which has been divided in to 3 Parts. This 4-Week course is a continuation from Part 2. It is a Hybrid Series; to be presented on Zoom\, and In-Person at The Green Man Store\, Wednesday Nights at 7:30pmPST\, between 3/5/24 – 3/26/24.  Students who have paid for the full series will have access to the class recordings through The Mighty Network throughout the duration of the series\, and for a limited time after the series has concluded.*\n\nUp until this point in this course\, we have had a thorough overview of all the foundational concepts within traditional perspectives of astrology. With an understanding of the planets\, signs\, essential dignity\, aspects and houses\, we can now explore intermediate concepts and techniques in astrological analyses and interpretations.\n\nIn Part 3 of this course\, we will explore the complex nuances within nativities\, which can prove or disprove the results or expectations of our initial impressions. We will also discuss ways to approach prediction\, pathworking and magical timing through fleshing out our understanding of transits\, elections and horoscopes. But most importantly\, we will workshop these approaches and techniques through cultivating our practice in synthesizing all of the concepts previously learned in this most sophisticated system – this language of the stars!\n\n(Please come to class prepared with whatever items you need for notetaking. Throughout the series I will also be providing you with additional study materials (PDF Handouts\, Charts & Tables\, Homework Exercises\, Quizzes\, and Video Study Guides.)\n\nFor reference\, listed below are the class topics set for all three parts of the course:\nPart 1 – Class Topics:\n1/8: Class 1 – The Planets & Sect\n1/15: Class 2 – Anatomy of a Zodiacal Sign\n1/22: Class 3 – Essential Dignity\n1/29: Class 4 – Nativity Lords & Reception\nPart 2 – Class Topics:\n2/5: Class 5 – Aspects & Orbs\n2/12: Class 6 – Planetary Cycles & Movement\n2/19: Class 7 – The Houses: Concepts & Systems\n2/26: Class 8 – The Houses: Interpretation Techniques\nPart 3 – Class Topics:\n3/5: Class 9 – Bonification & Maltreatment\n3/12: Class 10 – Horoscopic & Predictive Techniques\n3/19: Class 11 – Practice with Interpretation & Analysis\n3/26: Class 12 – Synthesis\n\n\n\n**PLEASE NOTE: Payments for all Events\, Classes\, and Rituals at The Green Man are non-refundable.** \nVideos will be available for a short time on the Mighty Network for those who register for the full series. \nTO REGISTER & PAY FOR THE SERIES ON ZOOM\, CLICK BELOW: \n\n\n\n    \n\nTO REGISTER & PAY FOR THE SERIES IN PERSON\, CLICK BELOW: \n\n\n\n    \n\nTO REGISTER & PAY FOR THIS CLASS ON ZOOM\, CLICK BELOW: \n\n\n\n    \n\nTO REGISTER & PAY FOR THIS CLASS IN PERSON\, CLICK BELOW: \n\n\n\n    \n\n 
URL:https://thegreenmanstore.com/event/traditional-astrology-for-witches-part-3-hybrid-class-series-with-jerel/2025-03-05/
LOCATION:The Green Man\, 824 North Hollywood Way\, Burbank\, CA\, 91505\, United States
CATEGORIES:Classes and Workshops
ATTACH;FMTTYPE=image/jpeg:https://thegreenmanstore.com/wp-content/uploads/2024/12/PHOTO-2024-12-02-19-12-30.jpg
GEO:34.1744781;-118.3800964
X-APPLE-STRUCTURED-LOCATION;VALUE=URI;X-ADDRESS=The Green Man 824 North Hollywood Way Burbank CA 91505 United States;X-APPLE-RADIUS=500;X-TITLE=824 North Hollywood Way:geo:-118.3800964,34.1744781
END:VEVENT
BEGIN:VEVENT
DTSTART;TZID=America/Los_Angeles:20250306T193000
DTEND;TZID=America/Los_Angeles:20250306T213000
DTSTAMP:20260425T045801
CREATED:20250121T191310Z
LAST-MODIFIED:20250121T191310Z
UID:10002708-1741289400-1741296600@thegreenmanstore.com
SUMMARY:Introduction to Shamanism with Jerel
DESCRIPTION:AN INTRODUCTION TO SHAMANISM\nA 6-Week (In-Person) Workshop Series with Jerel\nThursday Nights @ 7:30pm\nFebruary 20 – March 27\, 2025 \nShamanism is an earth/ nature-based spiritual path found in many indigenous\, as well as modern\, traditions around the world. Throughout history the shaman was someone who\, within their tribe or community\, played many roles: healer\, diviner\, storyteller\, counselor\, priest\, leader. As such\, Shamans have been able to guide and heal their communities through their connection with spirits of the land\, their skill in tracking problematic patterns and energies\, and their ability to travel between the spirit realms. Presently\, there has been a resurgence of interest for Shamanism\, leading many people onto a path of healing and growth through reclaiming their lives on a physical\, emotional and spiritual level. \nIf you are new to Shamanism\, or simply want to learn more about it\, this series will help you cultivate an understanding of a Shamanic worldview. In this series we will explore and discuss the various commonalities amongst Shamanic traditions from around the world\, and demonstrate simple ways in which you may incorporate Shamanic practices and skills into your own spiritual practices and everyday lives. \nThis will be a 6-Week In-Person Class Series\, wherein each class will meet every Thursday night between February 20 to March 27\, from 7:30pm – 10pm. Throughout the series\, each class will delve into a fundamental topic within the study of Shamanism. Each class is presented as it’s own “stand-alone” workshop within a series of workshops centered around a central theme. In this case\, “An Introduction to Shamanism” is a course about Spirit Work – how we may connect to the spirit guides and allies all around us. Needless to say\, the option of “dropping in” at any point in the series is openly encouraged\, especially if there are isolated topics\, practices and techniques you are specifically focused on learning. However\, all of the class topics in the series are quite supportive for a foundational study in shamanic practice\, and I highly recommended everyone to attend all classes in the series. \nWorkshop Topics: \n2/20: Class 1 – Shamanism & The Web of Life\nWhat is Shamanism? What is a shaman? In this introductory class will discuss questions like these\, as well as explore general themes\, perspectives\, and concepts within a shamanic practice. In this workshop\, we will also present a few practical techniques in staying grounded\, expanding vision\, and cultivating our work with spirit\, as we learn to connect with “The Web of Life.” \n2/27: Class 2 – Shamanic Journeying Workshop\nShamanic Journeying is a powerful practice which involves entering an altered state of consciousness to connect and interact with the spirit realms for insight\, guidance and healing. We will discuss the various ways this can be practiced and achieved\, as well as what to expect\, and how to translate and interpret the visions\, messages and “medicines” we receive\, as we learn to journey into the non-ordinary realms. \n3/6: Class 3 – Spirit Work with Plant Allies\nEvery shamanic culture around the world has a practice around working with plants as spirit allies. Unlike other spirits we may come across\, we have a special relationship to plants in the ways we may physically\, as well as spiritually\, interact with them. In this workshop we will explore different techniques and perspectives in which we may connect with these subtle spirits and their powerful medicines. \n3/13: Class 4 – Power Animals\, Totems and Spirit Guides\nThroughout history every culture around the world has had a unique connection to animals as archetypal symbols of wisdom\, power\, healing\, and character. When we observe these spirits in nature\, or interact with them in the non-ordinary realm\, we find invaluable opportunities to take in their guidance\, allyship and medicine in ways which help us to expand our awareness and personal evolution. In this workshop\, learn how to discover and connect to the animal guides and totems who walk by your side. \n3/20: Class 5 – Navigating The Medicine Wheel\nThe concept of the medicine wheel is more than a symbol of wisdom\, it is also the key to practical systems of ancient medicines\, which can elevate one’s vision and connection to time\, nature\, community\, and the land. In this workshop\, we will learn how to identify and organize the principles and archetypes within our own inner compasses\, to frame a better understanding of our cosmological perspectives\, while connecting to the spirits of the land. \n3/27: Class 6 – Shamanic Pathworking & Integration\nThe shamanic path is often perceived a special calling. Yes\, it is and can be\, but in truth\, it is also a choice\, a stewardship\, a story. Spirit Work is more than just learning to connect with spirits around and within you\, it is also about applying and integrating the many lessons and wisdoms you encounter along the way. In this workshop\, we will explore ways we may shift our spirit\, carry our stories\, and deepen our relationship to the most important spirit we will ever know – our own! \nPrice:\n$33/ class; $153/ full series\nIt is possible to upgrade from a single-class payment to the full series before the start of the second class. \n**PLEASE NOTE: Payments for all Events\, Classes\, and Rituals at The Green Man are non-refundable.** \nTO REGISTER & PAY FOR THIS CLASS\, CLICK BELOW: \n\n\n\n    \n\nTO REGISTER & PAY FOR THE FULL SERIES\, CLICK BELOW:
URL:https://thegreenmanstore.com/event/introduction-to-shamanism-with-jerel/2025-03-06/
LOCATION:The Green Man\, 824 North Hollywood Way\, Burbank\, CA\, 91505\, United States
CATEGORIES:Classes and Workshops
ATTACH;FMTTYPE=image/jpeg:https://thegreenmanstore.com/wp-content/uploads/2025/01/927d466c-99b1-469b-83cc-19fdbf55ea18.jpg
GEO:34.1744781;-118.3800964
X-APPLE-STRUCTURED-LOCATION;VALUE=URI;X-ADDRESS=The Green Man 824 North Hollywood Way Burbank CA 91505 United States;X-APPLE-RADIUS=500;X-TITLE=824 North Hollywood Way:geo:-118.3800964,34.1744781
END:VEVENT
BEGIN:VEVENT
DTSTART;TZID=America/Los_Angeles:20250308T150000
DTEND;TZID=America/Los_Angeles:20250308T170000
DTSTAMP:20260425T045801
CREATED:20250214T181625Z
LAST-MODIFIED:20250214T181625Z
UID:10002722-1741446000-1741453200@thegreenmanstore.com
SUMMARY:Protection 101: Spiritual Self-Defense
DESCRIPTION:Join Scarlett Ced for a Spiritual Self-Defense Class\, where you’ll learn how to protect your energy\, set strong boundaries\, and cultivate resilience in the face of negativity. This transformative workshop will teach you techniques to help you reclaim your power in times of uncertainty and crisis. \nWhat You’ll Learn: \n\nHow to shield yourself from toxic energy\nEnergy cleansing techniques to release negativity\nProtection rituals and spiritual boundaries\nReclaiming your personal power and sovereignty\n\n$33 investment. Available in person and on Zoom. \n**PLEASE NOTE: Payments for all Events\, Classes\, and Rituals at The Green Man are non-refundable.** \nTO REGISTER & PAY FOR THIS CLASS ON ZOOM\, CLICK BELOW: \n\n\n\n    \n\nTO REGISTER & PAY FOR THIS CLASS IN PERSON\, CLICK BELOW:
URL:https://thegreenmanstore.com/event/protection-101-spiritual-self-defense/
LOCATION:The Green Man\, 824 North Hollywood Way\, Burbank\, CA\, 91505\, United States
CATEGORIES:Classes and Workshops
ATTACH;FMTTYPE=image/png:https://thegreenmanstore.com/wp-content/uploads/2025/02/Protection-101-Spiritual-Self-Defense.png
GEO:34.1744781;-118.3800964
X-APPLE-STRUCTURED-LOCATION;VALUE=URI;X-ADDRESS=The Green Man 824 North Hollywood Way Burbank CA 91505 United States;X-APPLE-RADIUS=500;X-TITLE=824 North Hollywood Way:geo:-118.3800964,34.1744781
END:VEVENT
BEGIN:VEVENT
DTSTART;TZID=America/Los_Angeles:20250309T140000
DTEND;TZID=America/Los_Angeles:20250309T170000
DTSTAMP:20260425T045801
CREATED:20250225T153634Z
LAST-MODIFIED:20250225T153634Z
UID:10002728-1741528800-1741539600@thegreenmanstore.com
SUMMARY:Ostara Kids Crafts with Amy & Shana
DESCRIPTION:It’s that time of year again! The sun is growing stronger and the earth is waking up! \nJoin the green man parents and family for some early Spring fun! We’ll be celebrating Ostara\, the Vernal Equinox\, with some arts and crafts\, painting\, and flower planting. We will be sharing plant lore\, as well as seasonal stories and folklore. But most importantly: we’ll be welcoming back the springtime with joy\, friends\, and fun! \nAll materials are included in the admission fee. This is an event for children and families. We at The Green Man are a welcoming community\, and invite you and your family to join us whether you’re lifelong magical creatures\, or only just beginning your journey. \nWe look forward to seeing you! \n$23 per child\, materials included\n**PLEASE NOTE: Payments for all Events\, Classes\, and Rituals at The Green Man are non-refundable.**\n\n\nTO REGISTER & PAY FOR THIS CLASS\, CLICK BELOW:
URL:https://thegreenmanstore.com/event/ostara-kids-crafts-with-amy-shana/
LOCATION:The Green Man\, 824 North Hollywood Way\, Burbank\, CA\, 91505\, United States
CATEGORIES:Classes and Workshops
ATTACH;FMTTYPE=image/jpeg:https://thegreenmanstore.com/wp-content/uploads/2025/02/PHOTO-2025-02-25-07-20-39.jpg
GEO:34.1744781;-118.3800964
X-APPLE-STRUCTURED-LOCATION;VALUE=URI;X-ADDRESS=The Green Man 824 North Hollywood Way Burbank CA 91505 United States;X-APPLE-RADIUS=500;X-TITLE=824 North Hollywood Way:geo:-118.3800964,34.1744781
END:VEVENT
END:VCALENDAR