
BEGIN:VCALENDAR
VERSION:2.0
PRODID:-//The Green Man Store - ECPv6.15.17//NONSGML v1.0//EN
CALSCALE:GREGORIAN
METHOD:PUBLISH
X-WR-CALNAME:The Green Man Store
X-ORIGINAL-URL:https://thegreenmanstore.com
X-WR-CALDESC:Events for The Green Man Store
REFRESH-INTERVAL;VALUE=DURATION:PT1H
X-Robots-Tag:noindex
X-PUBLISHED-TTL:PT1H
BEGIN:VTIMEZONE
TZID:America/Los_Angeles
BEGIN:DAYLIGHT
TZOFFSETFROM:-0800
TZOFFSETTO:-0700
TZNAME:PDT
DTSTART:20230312T100000
END:DAYLIGHT
BEGIN:STANDARD
TZOFFSETFROM:-0700
TZOFFSETTO:-0800
TZNAME:PST
DTSTART:20231105T090000
END:STANDARD
BEGIN:DAYLIGHT
TZOFFSETFROM:-0800
TZOFFSETTO:-0700
TZNAME:PDT
DTSTART:20240310T100000
END:DAYLIGHT
BEGIN:STANDARD
TZOFFSETFROM:-0700
TZOFFSETTO:-0800
TZNAME:PST
DTSTART:20241103T090000
END:STANDARD
BEGIN:DAYLIGHT
TZOFFSETFROM:-0800
TZOFFSETTO:-0700
TZNAME:PDT
DTSTART:20250309T100000
END:DAYLIGHT
BEGIN:STANDARD
TZOFFSETFROM:-0700
TZOFFSETTO:-0800
TZNAME:PST
DTSTART:20251102T090000
END:STANDARD
END:VTIMEZONE
BEGIN:VEVENT
DTSTART;TZID=America/Los_Angeles:20241208T140000
DTEND;TZID=America/Los_Angeles:20241208T160000
DTSTAMP:20260425T193127
CREATED:20241119T170745Z
LAST-MODIFIED:20241119T170745Z
UID:10002660-1733666400-1733673600@thegreenmanstore.com
SUMMARY:Yuletide Kids Crafts with Amy and Shana
DESCRIPTION:Come join us for an afternoon of children’s Yuletide arts and (witch)crafts on December 8th at 2pm\n\nThis event gives children of all ages an opportunity to play and get familiar the symbols of the season in a playful and exciting fashion as they craft ornaments for the holidays. Each child will get an ornament to fill with ribbons\, bells\, herbs and other fun odds and ends to help them create their Yule Wishing Ball.\n\nFather Winter will join us for the afternoon and help lend his Yuletide magic to the activity by leading class in a special incantation to enchant their Wishing Balls and help make their dreams come true.\n\n$23\, materials included\n**PLEASE NOTE: Payments for all Events\, Classes\, and Rituals at The Green Man are non-refundable.**\n\n\nTO REGISTER & PAY FOR THIS CLASS\, CLICK BELOW:
URL:https://thegreenmanstore.com/event/yuletide-kids-crafts-with-amy-and-shana/
LOCATION:The Green Man\, 824 North Hollywood Way\, Burbank\, CA\, 91505\, United States
CATEGORIES:Classes and Workshops
ATTACH;FMTTYPE=image/png:https://thegreenmanstore.com/wp-content/uploads/2024/11/project_20241115_0919235-01.png
GEO:34.1744781;-118.3800964
X-APPLE-STRUCTURED-LOCATION;VALUE=URI;X-ADDRESS=The Green Man 824 North Hollywood Way Burbank CA 91505 United States;X-APPLE-RADIUS=500;X-TITLE=824 North Hollywood Way:geo:-118.3800964,34.1744781
END:VEVENT
END:VCALENDAR