
BEGIN:VCALENDAR
VERSION:2.0
PRODID:-//The Green Man Store - ECPv6.15.17//NONSGML v1.0//EN
CALSCALE:GREGORIAN
METHOD:PUBLISH
X-WR-CALNAME:The Green Man Store
X-ORIGINAL-URL:https://thegreenmanstore.com
X-WR-CALDESC:Events for The Green Man Store
REFRESH-INTERVAL;VALUE=DURATION:PT1H
X-Robots-Tag:noindex
X-PUBLISHED-TTL:PT1H
BEGIN:VTIMEZONE
TZID:America/Los_Angeles
BEGIN:DAYLIGHT
TZOFFSETFROM:-0800
TZOFFSETTO:-0700
TZNAME:PDT
DTSTART:20230312T100000
END:DAYLIGHT
BEGIN:STANDARD
TZOFFSETFROM:-0700
TZOFFSETTO:-0800
TZNAME:PST
DTSTART:20231105T090000
END:STANDARD
BEGIN:DAYLIGHT
TZOFFSETFROM:-0800
TZOFFSETTO:-0700
TZNAME:PDT
DTSTART:20240310T100000
END:DAYLIGHT
BEGIN:STANDARD
TZOFFSETFROM:-0700
TZOFFSETTO:-0800
TZNAME:PST
DTSTART:20241103T090000
END:STANDARD
BEGIN:DAYLIGHT
TZOFFSETFROM:-0800
TZOFFSETTO:-0700
TZNAME:PDT
DTSTART:20250309T100000
END:DAYLIGHT
BEGIN:STANDARD
TZOFFSETFROM:-0700
TZOFFSETTO:-0800
TZNAME:PST
DTSTART:20251102T090000
END:STANDARD
END:VTIMEZONE
BEGIN:VEVENT
DTSTART;TZID=America/Los_Angeles:20241018T193000
DTEND;TZID=America/Los_Angeles:20241018T220000
DTSTAMP:20260425T065209
CREATED:20240910T221108Z
LAST-MODIFIED:20240912T015636Z
UID:10002628-1729279800-1729288800@thegreenmanstore.com
SUMMARY:Gwyn ap Nudd Wild Hunt Vision Quest - hybrid with Griffin & Carrie
DESCRIPTION:This month’s Quest will be a meeting with the Welsh Gwyn ap Nudd. Gwyn is a multi-faceted spirit\, but at this time of year he is most strongly associated with The Wild Hunt that gathers the wandering spirits of the dead who have not crossed over\, and takes them across the Veil. He rides the Mari Lwyd and is accompanied by the red-eared white hounds of the underworld!\n\n\nGeneral notes about these workings:  Akin to the Quest for the Grail achieved through Vision\, these popular Vision Quest workings serve to help awaken the Sight and Gifts in the Seeker\, offering a number of opportunities to connect with various divine spirits and receive gnostic insight into your Fate\, Path and practices\, both within your mundane world as well as your Magic.\n\n\nThese can be powerful workings\, so we recommend that you please be prepared to stay and engage in the after-Quest discussion while you ground and perhaps receive clarity on any insights you may have received.\n\n\nPlease arrive at 7:30 for an 8pm start.\n\n*ZOOM PARTICIPANTS PLEASE NOTE: We will open the Zoom meeting at 7:30\, but will start at 8pm PROMPT.\n\n*IN PERSON PARTICIPANTS PLEASE NOTE: our new temple space is not carpeted\, and bringing a pillow or yoga blanket or something comfortable to sit on is recommended.\n\nAlso\, please bring a salty snack to share for after the Vision Quest.\n\n\nSpace in person is limited and Vision Quests tend to sell out fast!\nWe have a two-tier system for payment:\nIn person cost $33\nOn Zoom cost $28\n\n\n\n**PLEASE NOTE: Payments for all Events\, Classes\, and Rituals at The Green Man are non-refundable.** \n\nTO REGISTER & PAY FOR THIS EVENT ON ZOOM\, CLICK BELOW: \n\n\n\n    \n\n\n\nTO REGISTER & PAY FOR THIS EVENT IN PERSON\, CLICK BELOW:
URL:https://thegreenmanstore.com/event/gwyn-ap-nudd-wild-hunt-vision-quest-hybrid-with-griffin-carrie/
LOCATION:The Green Man\, 824 North Hollywood Way\, Burbank\, CA\, 91505\, United States
CATEGORIES:Classes and Workshops,Group Rituals, Ceremonies, and Workings
ATTACH;FMTTYPE=image/jpeg:https://thegreenmanstore.com/wp-content/uploads/2024/09/PHOTO-2024-09-11-18-38-08.jpg
GEO:34.1744781;-118.3800964
X-APPLE-STRUCTURED-LOCATION;VALUE=URI;X-ADDRESS=The Green Man 824 North Hollywood Way Burbank CA 91505 United States;X-APPLE-RADIUS=500;X-TITLE=824 North Hollywood Way:geo:-118.3800964,34.1744781
END:VEVENT
END:VCALENDAR