
BEGIN:VCALENDAR
VERSION:2.0
PRODID:-//The Green Man Store - ECPv6.15.17//NONSGML v1.0//EN
CALSCALE:GREGORIAN
METHOD:PUBLISH
X-WR-CALNAME:The Green Man Store
X-ORIGINAL-URL:https://thegreenmanstore.com
X-WR-CALDESC:Events for The Green Man Store
REFRESH-INTERVAL;VALUE=DURATION:PT1H
X-Robots-Tag:noindex
X-PUBLISHED-TTL:PT1H
BEGIN:VTIMEZONE
TZID:America/Los_Angeles
BEGIN:DAYLIGHT
TZOFFSETFROM:-0800
TZOFFSETTO:-0700
TZNAME:PDT
DTSTART:20240310T100000
END:DAYLIGHT
BEGIN:STANDARD
TZOFFSETFROM:-0700
TZOFFSETTO:-0800
TZNAME:PST
DTSTART:20241103T090000
END:STANDARD
BEGIN:DAYLIGHT
TZOFFSETFROM:-0800
TZOFFSETTO:-0700
TZNAME:PDT
DTSTART:20250309T100000
END:DAYLIGHT
BEGIN:STANDARD
TZOFFSETFROM:-0700
TZOFFSETTO:-0800
TZNAME:PST
DTSTART:20251102T090000
END:STANDARD
BEGIN:DAYLIGHT
TZOFFSETFROM:-0800
TZOFFSETTO:-0700
TZNAME:PDT
DTSTART:20260308T100000
END:DAYLIGHT
BEGIN:STANDARD
TZOFFSETFROM:-0700
TZOFFSETTO:-0800
TZNAME:PST
DTSTART:20261101T090000
END:STANDARD
END:VTIMEZONE
BEGIN:VEVENT
DTSTART;TZID=America/Los_Angeles:20250112T123000
DTEND;TZID=America/Los_Angeles:20250112T143000
DTSTAMP:20260423T173124
CREATED:20241105T232637Z
LAST-MODIFIED:20241105T232637Z
UID:10002658-1736685000-1736692200@thegreenmanstore.com
SUMMARY:Vision Board workshop with Shana
DESCRIPTION:Join Intuitive Shana for an afternoon of crafting\, empowerment and manifestation in her Vision Boards Workshop.  Vision boards are a wonderful and unique tool that helps curate a solid foundation for you to build our ambition\, goals and renewed hope. \nAlong with photos and clippings of your desires\, you will adorn your board with gems\, embellishments and a specially crafted herbal blend designed to bring your goals for 2025 to life. At the end of the workshop you will enchant your board to give your intentions for the new year a magical push. \nPlease bring a photo of yourself and any specific pictures of your goals to out on your board. All other supplies will be provided. \nClass space is limited. Please reserve your spot at thegreenmanstore.com \nClass fee $38\, which includes materials for your vision board. \n**PLEASE NOTE: Payments for all Events\, Classes\, and Rituals at The Green Man are non-refundable.** \nTO REGISTER & PAY FOR THIS WORKSHOP\, CLICK BELOW:
URL:https://thegreenmanstore.com/event/vision-board-workshop-with-shana-2/
LOCATION:The Green Man\, 824 North Hollywood Way\, Burbank\, CA\, 91505\, United States
ATTACH;FMTTYPE=image/png:https://thegreenmanstore.com/wp-content/uploads/2024/11/project_20241102_1533376-01.png
GEO:34.1744781;-118.3800964
X-APPLE-STRUCTURED-LOCATION;VALUE=URI;X-ADDRESS=The Green Man 824 North Hollywood Way Burbank CA 91505 United States;X-APPLE-RADIUS=500;X-TITLE=824 North Hollywood Way:geo:-118.3800964,34.1744781
END:VEVENT
END:VCALENDAR