
BEGIN:VCALENDAR
VERSION:2.0
PRODID:-//The Green Man Store - ECPv6.15.17//NONSGML v1.0//EN
CALSCALE:GREGORIAN
METHOD:PUBLISH
X-WR-CALNAME:The Green Man Store
X-ORIGINAL-URL:https://thegreenmanstore.com
X-WR-CALDESC:Events for The Green Man Store
REFRESH-INTERVAL;VALUE=DURATION:PT1H
X-Robots-Tag:noindex
X-PUBLISHED-TTL:PT1H
BEGIN:VTIMEZONE
TZID:America/Los_Angeles
BEGIN:DAYLIGHT
TZOFFSETFROM:-0800
TZOFFSETTO:-0700
TZNAME:PDT
DTSTART:20230312T100000
END:DAYLIGHT
BEGIN:STANDARD
TZOFFSETFROM:-0700
TZOFFSETTO:-0800
TZNAME:PST
DTSTART:20231105T090000
END:STANDARD
BEGIN:DAYLIGHT
TZOFFSETFROM:-0800
TZOFFSETTO:-0700
TZNAME:PDT
DTSTART:20240310T100000
END:DAYLIGHT
BEGIN:STANDARD
TZOFFSETFROM:-0700
TZOFFSETTO:-0800
TZNAME:PST
DTSTART:20241103T090000
END:STANDARD
BEGIN:DAYLIGHT
TZOFFSETFROM:-0800
TZOFFSETTO:-0700
TZNAME:PDT
DTSTART:20250309T100000
END:DAYLIGHT
BEGIN:STANDARD
TZOFFSETFROM:-0700
TZOFFSETTO:-0800
TZNAME:PST
DTSTART:20251102T090000
END:STANDARD
END:VTIMEZONE
BEGIN:VEVENT
DTSTART;TZID=America/Los_Angeles:20240407T140000
DTEND;TZID=America/Los_Angeles:20240407T160000
DTSTAMP:20260425T185649
CREATED:20240313T224737Z
LAST-MODIFIED:20240313T224737Z
UID:10002445-1712498400-1712505600@thegreenmanstore.com
SUMMARY:Reverse the Curse! with Vinny Gaglione
DESCRIPTION:Many people have been asking questions about hexes\, curses and negative magick. \nIn this workshop\, you will learn what you may experience if you were cursed or hexed\, and what you can do to remove a curse or hex. Each participant will perform different simple yet powerful spells in class to get rid of the curse. Also how to effectively remove your antagonist is a spiritually\, positive way. An additional $5 will be charged for supplies FOR THOSE ATTENDING IN PERSON.  \nAbout the teacher: Vinny is a High Priest of the Stregheria tradition\, a Babalawo of Santeria tradition\, and is also a 3rd degree Celtic Wiccan and an Astrologer. He has taught classes & workshops for decades at both Spellbound\, and Mansions of the Moon. He is also High Priest to our own in-house Strega\, Monica Sorce! He seldom visits the West Coast\, so take advantage of this opportunity to learn from him while you can! \n**PLEASE NOTE: Payments for all Events\, Classes\, and Rituals at The Green Man are non-refundable.** \n\nTO REGISTER & PAY FOR THIS CLASS ON ZOOM\, CLICK BELOW: \n\n\n\n    \n\n\n\nTO REGISTER & PAY FOR THIS CLASS IN PERSON\, CLICK BELOW: \n\n\n\n    \n\n\n 
URL:https://thegreenmanstore.com/event/reverse-the-curse-with-vinny-gaglione/
LOCATION:The Green Man\, 824 North Hollywood Way\, Burbank\, CA\, 91505\, United States
CATEGORIES:Classes and Workshops
GEO:34.1744781;-118.3800964
X-APPLE-STRUCTURED-LOCATION;VALUE=URI;X-ADDRESS=The Green Man 824 North Hollywood Way Burbank CA 91505 United States;X-APPLE-RADIUS=500;X-TITLE=824 North Hollywood Way:geo:-118.3800964,34.1744781
END:VEVENT
BEGIN:VEVENT
DTSTART;TZID=America/Los_Angeles:20240414T140000
DTEND;TZID=America/Los_Angeles:20240414T160000
DTSTAMP:20260425T185649
CREATED:20240313T225139Z
LAST-MODIFIED:20240313T225139Z
UID:10002446-1713103200-1713110400@thegreenmanstore.com
SUMMARY:Magick for Legal Matters with Vinny Gaglione
DESCRIPTION:Magick for Legal Matters – At one time or another\, we all have some type of legal problems\, whether is an auto accident that has to go to court\, to a false accusation\, or a simple violation that the courts may levy a heavy fine on you\, or maybe you really are guilty and need to mitigate the penalties. In this class\, you will learn simple and powerful spells to help in all judicial and legal matters. \nAbout the teacher: Vinny is a High Priest of the Stregheria tradition\, a Babalawo of Santeria tradition\, and is also a 3rd degree Celtic Wiccan and an Astrologer. He has taught classes & workshops for decades at both Spellbound\, and Mansions of the Moon. He is also High Priest to our own in-house Strega\, Monica Sorce! He seldom visits the West Coast\, so take advantage of this opportunity to learn from him while you can! \n**PLEASE NOTE: Payments for all Events\, Classes\, and Rituals at The Green Man are non-refundable.** \n\nTO REGISTER & PAY FOR THIS CLASS ON ZOOM\, CLICK BELOW: \n\n\n\n    \n\n\n\nTO REGISTER & PAY FOR THIS CLASS IN PERSON\, CLICK BELOW:
URL:https://thegreenmanstore.com/event/magick-for-legal-matters/
LOCATION:The Green Man\, 824 North Hollywood Way\, Burbank\, CA\, 91505\, United States
CATEGORIES:Classes and Workshops
GEO:34.1744781;-118.3800964
X-APPLE-STRUCTURED-LOCATION;VALUE=URI;X-ADDRESS=The Green Man 824 North Hollywood Way Burbank CA 91505 United States;X-APPLE-RADIUS=500;X-TITLE=824 North Hollywood Way:geo:-118.3800964,34.1744781
END:VEVENT
BEGIN:VEVENT
DTSTART;TZID=America/Los_Angeles:20240420T140000
DTEND;TZID=America/Los_Angeles:20240420T160000
DTSTAMP:20260425T185649
CREATED:20240313T225519Z
LAST-MODIFIED:20240313T225519Z
UID:10002447-1713621600-1713628800@thegreenmanstore.com
SUMMARY:More Power! - with Vinny Gaglione
DESCRIPTION:Increase the magickal power in your spells\, rituals and ceremonies with this fun and educational workshop. You will learn how to utilize crystals\, gems\, metals\, herbs and other items to add more power. Practical exercises involving chanting\, visualization\, and other actions will also be covered. \nAbout the teacher: Vinny is a High Priest of the Stregheria tradition\, a Babalawo of Santeria tradition\, and is also a 3rd degree Celtic Wiccan and an Astrologer. He has taught classes & workshops for decades at both Spellbound\, and Mansions of the Moon. He is also High Priest to our own in-house Strega\, Monica Sorce! He seldom visits the West Coast\, so take advantage of this opportunity to learn from him while you can! \n**PLEASE NOTE: Payments for all Events\, Classes\, and Rituals at The Green Man are non-refundable.** \n\nTO REGISTER & PAY FOR THIS CLASS ON ZOOM\, CLICK BELOW: \n\n\n\n    \n\n\n\nTO REGISTER & PAY FOR THIS CLASS IN PERSON\, CLICK BELOW:
URL:https://thegreenmanstore.com/event/more-power-with-vinny-gaglione/
LOCATION:The Green Man\, 824 North Hollywood Way\, Burbank\, CA\, 91505\, United States
CATEGORIES:Classes and Workshops
GEO:34.1744781;-118.3800964
X-APPLE-STRUCTURED-LOCATION;VALUE=URI;X-ADDRESS=The Green Man 824 North Hollywood Way Burbank CA 91505 United States;X-APPLE-RADIUS=500;X-TITLE=824 North Hollywood Way:geo:-118.3800964,34.1744781
END:VEVENT
BEGIN:VEVENT
DTSTART;TZID=America/Los_Angeles:20240421T140000
DTEND;TZID=America/Los_Angeles:20240421T160000
DTSTAMP:20260425T185649
CREATED:20240313T225855Z
LAST-MODIFIED:20240313T225855Z
UID:10002448-1713708000-1713715200@thegreenmanstore.com
SUMMARY:Sympathetic Magick - with Vinny Gaglione
DESCRIPTION:The ancients and many modern magickal practitioners employ sympathetic magick\, whether they realize it or not. In this class\, you will learn what sympathetic magick is\, examples of sympathetic magick\, and how you can employ it in your practice. \nAbout the teacher: Vinny is a High Priest of the Stregheria tradition\, a Babalawo of Santeria tradition\, and is also a 3rd degree Celtic Wiccan and an Astrologer. He has taught classes & workshops for decades at both Spellbound\, and Mansions of the Moon. He is also High Priest to our own in-house Strega\, Monica Sorce! He seldom visits the West Coast\, so take advantage of this opportunity to learn from him while you can! \n**PLEASE NOTE: Payments for all Events\, Classes\, and Rituals at The Green Man are non-refundable.** \n\nTO REGISTER & PAY FOR THIS CLASS ON ZOOM\, CLICK BELOW: \n\n\n\n    \n\n\n\nTO REGISTER & PAY FOR THIS CLASS IN PERSON\, CLICK BELOW:
URL:https://thegreenmanstore.com/event/sympathetic-magick-with-vinny-gaglione/
LOCATION:The Green Man\, 824 North Hollywood Way\, Burbank\, CA\, 91505\, United States
CATEGORIES:Classes and Workshops
GEO:34.1744781;-118.3800964
X-APPLE-STRUCTURED-LOCATION;VALUE=URI;X-ADDRESS=The Green Man 824 North Hollywood Way Burbank CA 91505 United States;X-APPLE-RADIUS=500;X-TITLE=824 North Hollywood Way:geo:-118.3800964,34.1744781
END:VEVENT
END:VCALENDAR