
BEGIN:VCALENDAR
VERSION:2.0
PRODID:-//The Green Man Store - ECPv6.15.17//NONSGML v1.0//EN
CALSCALE:GREGORIAN
METHOD:PUBLISH
X-WR-CALNAME:The Green Man Store
X-ORIGINAL-URL:https://thegreenmanstore.com
X-WR-CALDESC:Events for The Green Man Store
REFRESH-INTERVAL;VALUE=DURATION:PT1H
X-Robots-Tag:noindex
X-PUBLISHED-TTL:PT1H
BEGIN:VTIMEZONE
TZID:America/Los_Angeles
BEGIN:DAYLIGHT
TZOFFSETFROM:-0800
TZOFFSETTO:-0700
TZNAME:PDT
DTSTART:20230312T100000
END:DAYLIGHT
BEGIN:STANDARD
TZOFFSETFROM:-0700
TZOFFSETTO:-0800
TZNAME:PST
DTSTART:20231105T090000
END:STANDARD
BEGIN:DAYLIGHT
TZOFFSETFROM:-0800
TZOFFSETTO:-0700
TZNAME:PDT
DTSTART:20240310T100000
END:DAYLIGHT
BEGIN:STANDARD
TZOFFSETFROM:-0700
TZOFFSETTO:-0800
TZNAME:PST
DTSTART:20241103T090000
END:STANDARD
BEGIN:DAYLIGHT
TZOFFSETFROM:-0800
TZOFFSETTO:-0700
TZNAME:PDT
DTSTART:20250309T100000
END:DAYLIGHT
BEGIN:STANDARD
TZOFFSETFROM:-0700
TZOFFSETTO:-0800
TZNAME:PST
DTSTART:20251102T090000
END:STANDARD
END:VTIMEZONE
BEGIN:VEVENT
DTSTART;TZID=America/Los_Angeles:20241109T200000
DTEND;TZID=America/Los_Angeles:20241109T210000
DTSTAMP:20260420T102317
CREATED:20240814T231153Z
LAST-MODIFIED:20240814T231153Z
UID:10002613-1731182400-1731186000@thegreenmanstore.com
SUMMARY:Sound Bath with Lacy
DESCRIPTION:What is a Sound Bath?\nA Sound Bath is an experience in which you can either sit or lie down on the ground\, close your eyes and feel the sound waves of the crystal singing bowls and planetary gongs flowing around and through you…bathing you. Many people find it to be meditative\, relaxing\, and/or healing. Some people may go on an inward journey or experience altered states of consciousness and some may even fall asleep. Most people leave feeling more relaxed than when they arrived. Sound affects our nervous system. It can help to turn off our sympathetic nervous system…the fight or flight that we tend to live in our daily lives…and turn on our parasympathetic nervous systems\, allowing for rest and relaxation.\nDress in comfortable clothing and please bring a mat\, blanket\, pillow and/or anything that allows you to be comfortable lying on the floor.\nPlease arrive at 7:30 for 8:00pm start.  In order to avoid interruption of the meditative nature of this event\, the doors will be locked at 8pm sharp and no-one will be admitted after that time. Actual duration of this event is 1 hour. \n**PLEASE NOTE: Payments for all Events\, Classes\, and Rituals at The Green Man are non-refundable.** \nTO REGISTER & PAY FOR THIS EVENT\, CLICK BELOW:
URL:https://thegreenmanstore.com/event/sound-bath-with-lacy-nov2024/
LOCATION:The Green Man\, 824 North Hollywood Way\, Burbank\, CA\, 91505\, United States
CATEGORIES:Classes and Workshops,Group Rituals, Ceremonies, and Workings
ATTACH;FMTTYPE=image/jpeg:https://thegreenmanstore.com/wp-content/uploads/2023/02/Sound-Bath-Image-1.jpg
GEO:34.1744781;-118.3800964
X-APPLE-STRUCTURED-LOCATION;VALUE=URI;X-ADDRESS=The Green Man 824 North Hollywood Way Burbank CA 91505 United States;X-APPLE-RADIUS=500;X-TITLE=824 North Hollywood Way:geo:-118.3800964,34.1744781
END:VEVENT
END:VCALENDAR