
BEGIN:VCALENDAR
VERSION:2.0
PRODID:-//The Green Man Store - ECPv6.15.17//NONSGML v1.0//EN
CALSCALE:GREGORIAN
METHOD:PUBLISH
X-WR-CALNAME:The Green Man Store
X-ORIGINAL-URL:https://thegreenmanstore.com
X-WR-CALDESC:Events for The Green Man Store
REFRESH-INTERVAL;VALUE=DURATION:PT1H
X-Robots-Tag:noindex
X-PUBLISHED-TTL:PT1H
BEGIN:VTIMEZONE
TZID:America/Los_Angeles
BEGIN:DAYLIGHT
TZOFFSETFROM:-0800
TZOFFSETTO:-0700
TZNAME:PDT
DTSTART:20230312T100000
END:DAYLIGHT
BEGIN:STANDARD
TZOFFSETFROM:-0700
TZOFFSETTO:-0800
TZNAME:PST
DTSTART:20231105T090000
END:STANDARD
BEGIN:DAYLIGHT
TZOFFSETFROM:-0800
TZOFFSETTO:-0700
TZNAME:PDT
DTSTART:20240310T100000
END:DAYLIGHT
BEGIN:STANDARD
TZOFFSETFROM:-0700
TZOFFSETTO:-0800
TZNAME:PST
DTSTART:20241103T090000
END:STANDARD
BEGIN:DAYLIGHT
TZOFFSETFROM:-0800
TZOFFSETTO:-0700
TZNAME:PDT
DTSTART:20250309T100000
END:DAYLIGHT
BEGIN:STANDARD
TZOFFSETFROM:-0700
TZOFFSETTO:-0800
TZNAME:PST
DTSTART:20251102T090000
END:STANDARD
END:VTIMEZONE
BEGIN:VEVENT
DTSTART;TZID=America/Los_Angeles:20240507T193000
DTEND;TZID=America/Los_Angeles:20240507T213000
DTSTAMP:20260425T053626
CREATED:20240226T233807Z
LAST-MODIFIED:20240227T211200Z
UID:10002423-1715110200-1715117400@thegreenmanstore.com
SUMMARY:Ced Tarot Rituals of the Witch’s Compass with Griffin & Carrie
DESCRIPTION:Ced Tarot Rituals of the Witch’s Compass HYBRID class series with Griffin & Carrie.\nFor the first time ever\, a series of how to prep and work practical rituals from the Ced Tarot. We will also look at the Rider Waite cards as a comparison or alternate. \nStarting Tuesday March 19th at 7:30 p.m. for nine weeks.\nThis Series will be HYBRID: in person\, and on Zoom\, but please read specifics. \nAbout the Series:\nThis will be a Practical Ritual Series that takes the cards of the Ced Tarot as a tool to create practical working rituals. The cards\, worked in a particular manner\, offer inspiration as well as a way to tap into the tides of Fate\, sometimes called the web of wyrd. This use of the Tarot lends itself as a powerful tool of ritual construction that helps us find the right kind of working for any given goal in synch with any particular date upcoming\, forging a tighter harmony with the tides of Fate. This is a very helpful tool that we in the Ced Tradition have used for many years to find and flesh out many inspiring & powerful timely workings. \nThis approach will also open a deeper\, more practical grasp of both the Ced Tarot Cards and why they are placed where they are upon the Witch’s Compass\, offering also a deeper insight also into the associations of compass directions themselves. The Witch’s Compass as worked within the Ced Tradition is a cosmological framework used by us and some Traditional Witches as an alternative to the Judaic Kabalistic Tree. \nThough this series is primarily focused on the Ced Tarot\, we will also look at the Rider Waite Deck as a comparison. And the system we will present is possible to work with other decks. \nPractical considerations for this series:\nThis material has not been presented before in this manner\, and so we felt that many far afield would also want what we are offering in this Series. However in the past we have found that using Zoom for practical classes presented on the Ritual Floor really doesn’t work in general. So the solution we are going to try is this: \nOne week will be in the classroom exploring the cards and ways to use them\, to find insight into how to structure and work a practical ritual from them as source. The next week would then be working the rituals on the floor for the group in person at the store\, and for the Zoom folks to do as solitary workings at home. So: one week in discussion and ritual planning\, one week in ritual on the floor. \nEach week we work in the classroom would start at 7pm and go until 8pm purely focused on the Zoom members\, discussing their recent workings and getting feedback. In person folks are welcome to join us\, but the sole focus for the first hour will be on Zoom members. \nThen we will continue the evening in the classroom discussing the cards and the working for the following week. In person people will have the opportunity to discuss the work on the ritual working nights. \nThe first class will be an orientation for all students on how to work the Tarot for tracking the tides in order to create rituals\, and general basic ritual construction elements as a foundation for the rest of the series. \nSo we have 8 weeks: four in the classroom and four ritual weeks\, plus the orientation class for everyone.\nFor people in person this makes it a 9 week series.\nFor people on Zoom it will be a 5 week series spread over 9 weeks. \nThose who purchase the full series will have access to class videos on line for a limited time. And the price for a Series purchase reduces the class costs by around $5 per class. \nClass fees:\nON ZOOM: $28 per class or $103 for a 5 week series if paid in full by first class (a $5 per class savings when paid in full; it brings the price to $20 per class).\nIN PERSON: $33 per class or $228 for 9 week series if paid in full by first class (a $5 per class savings when paid in full; it brings the price to $25 per class). \n**PLEASE NOTE: Payments for all Events\, Classes\, and Rituals at The Green Man are non-refundable.** \nTO REGISTER & PAY FOR THE SERIES ON ZOOM\, CLICK BELOW: \n\n\n\n    \n\nTO REGISTER & PAY FOR THE SERIES IN PERSON\, CLICK BELOW \n\n\n\n    \n \nTO REGISTER & PAY FOR THIS SINGLE CLASS ON ZOOM\, CLICK BELOW: \n\n\n\n    \n\nTO REGISTER & PAY FOR THIS SINGLE CLASS IN PERSON\, CLICK BELOW:
URL:https://thegreenmanstore.com/event/ced-tarot-rituals-of-the-witchs-compass-with-griffin-carrie/2024-05-07/
LOCATION:The Green Man\, 824 North Hollywood Way\, Burbank\, CA\, 91505\, United States
CATEGORIES:Classes and Workshops
ATTACH;FMTTYPE=image/jpeg:https://thegreenmanstore.com/wp-content/uploads/2024/02/PHOTO-2024-02-26-14-08-50.jpg
GEO:34.1744781;-118.3800964
X-APPLE-STRUCTURED-LOCATION;VALUE=URI;X-ADDRESS=The Green Man 824 North Hollywood Way Burbank CA 91505 United States;X-APPLE-RADIUS=500;X-TITLE=824 North Hollywood Way:geo:-118.3800964,34.1744781
END:VEVENT
BEGIN:VEVENT
DTSTART;TZID=America/Los_Angeles:20240514T193000
DTEND;TZID=America/Los_Angeles:20240514T213000
DTSTAMP:20260425T053626
CREATED:20240226T233807Z
LAST-MODIFIED:20240227T211200Z
UID:10002424-1715715000-1715722200@thegreenmanstore.com
SUMMARY:Ced Tarot Rituals of the Witch’s Compass with Griffin & Carrie
DESCRIPTION:Ced Tarot Rituals of the Witch’s Compass HYBRID class series with Griffin & Carrie.\nFor the first time ever\, a series of how to prep and work practical rituals from the Ced Tarot. We will also look at the Rider Waite cards as a comparison or alternate. \nStarting Tuesday March 19th at 7:30 p.m. for nine weeks.\nThis Series will be HYBRID: in person\, and on Zoom\, but please read specifics. \nAbout the Series:\nThis will be a Practical Ritual Series that takes the cards of the Ced Tarot as a tool to create practical working rituals. The cards\, worked in a particular manner\, offer inspiration as well as a way to tap into the tides of Fate\, sometimes called the web of wyrd. This use of the Tarot lends itself as a powerful tool of ritual construction that helps us find the right kind of working for any given goal in synch with any particular date upcoming\, forging a tighter harmony with the tides of Fate. This is a very helpful tool that we in the Ced Tradition have used for many years to find and flesh out many inspiring & powerful timely workings. \nThis approach will also open a deeper\, more practical grasp of both the Ced Tarot Cards and why they are placed where they are upon the Witch’s Compass\, offering also a deeper insight also into the associations of compass directions themselves. The Witch’s Compass as worked within the Ced Tradition is a cosmological framework used by us and some Traditional Witches as an alternative to the Judaic Kabalistic Tree. \nThough this series is primarily focused on the Ced Tarot\, we will also look at the Rider Waite Deck as a comparison. And the system we will present is possible to work with other decks. \nPractical considerations for this series:\nThis material has not been presented before in this manner\, and so we felt that many far afield would also want what we are offering in this Series. However in the past we have found that using Zoom for practical classes presented on the Ritual Floor really doesn’t work in general. So the solution we are going to try is this: \nOne week will be in the classroom exploring the cards and ways to use them\, to find insight into how to structure and work a practical ritual from them as source. The next week would then be working the rituals on the floor for the group in person at the store\, and for the Zoom folks to do as solitary workings at home. So: one week in discussion and ritual planning\, one week in ritual on the floor. \nEach week we work in the classroom would start at 7pm and go until 8pm purely focused on the Zoom members\, discussing their recent workings and getting feedback. In person folks are welcome to join us\, but the sole focus for the first hour will be on Zoom members. \nThen we will continue the evening in the classroom discussing the cards and the working for the following week. In person people will have the opportunity to discuss the work on the ritual working nights. \nThe first class will be an orientation for all students on how to work the Tarot for tracking the tides in order to create rituals\, and general basic ritual construction elements as a foundation for the rest of the series. \nSo we have 8 weeks: four in the classroom and four ritual weeks\, plus the orientation class for everyone.\nFor people in person this makes it a 9 week series.\nFor people on Zoom it will be a 5 week series spread over 9 weeks. \nThose who purchase the full series will have access to class videos on line for a limited time. And the price for a Series purchase reduces the class costs by around $5 per class. \nClass fees:\nON ZOOM: $28 per class or $103 for a 5 week series if paid in full by first class (a $5 per class savings when paid in full; it brings the price to $20 per class).\nIN PERSON: $33 per class or $228 for 9 week series if paid in full by first class (a $5 per class savings when paid in full; it brings the price to $25 per class). \n**PLEASE NOTE: Payments for all Events\, Classes\, and Rituals at The Green Man are non-refundable.** \nTO REGISTER & PAY FOR THE SERIES ON ZOOM\, CLICK BELOW: \n\n\n\n    \n\nTO REGISTER & PAY FOR THE SERIES IN PERSON\, CLICK BELOW \n\n\n\n    \n \nTO REGISTER & PAY FOR THIS SINGLE CLASS ON ZOOM\, CLICK BELOW: \n\n\n\n    \n\nTO REGISTER & PAY FOR THIS SINGLE CLASS IN PERSON\, CLICK BELOW:
URL:https://thegreenmanstore.com/event/ced-tarot-rituals-of-the-witchs-compass-with-griffin-carrie/2024-05-14/
LOCATION:The Green Man\, 824 North Hollywood Way\, Burbank\, CA\, 91505\, United States
CATEGORIES:Classes and Workshops
ATTACH;FMTTYPE=image/jpeg:https://thegreenmanstore.com/wp-content/uploads/2024/02/PHOTO-2024-02-26-14-08-50.jpg
GEO:34.1744781;-118.3800964
X-APPLE-STRUCTURED-LOCATION;VALUE=URI;X-ADDRESS=The Green Man 824 North Hollywood Way Burbank CA 91505 United States;X-APPLE-RADIUS=500;X-TITLE=824 North Hollywood Way:geo:-118.3800964,34.1744781
END:VEVENT
END:VCALENDAR