
BEGIN:VCALENDAR
VERSION:2.0
PRODID:-//The Green Man Store - ECPv6.15.17//NONSGML v1.0//EN
CALSCALE:GREGORIAN
METHOD:PUBLISH
X-WR-CALNAME:The Green Man Store
X-ORIGINAL-URL:https://thegreenmanstore.com
X-WR-CALDESC:Events for The Green Man Store
REFRESH-INTERVAL;VALUE=DURATION:PT1H
X-Robots-Tag:noindex
X-PUBLISHED-TTL:PT1H
BEGIN:VTIMEZONE
TZID:America/Los_Angeles
BEGIN:DAYLIGHT
TZOFFSETFROM:-0800
TZOFFSETTO:-0700
TZNAME:PDT
DTSTART:20240310T100000
END:DAYLIGHT
BEGIN:STANDARD
TZOFFSETFROM:-0700
TZOFFSETTO:-0800
TZNAME:PST
DTSTART:20241103T090000
END:STANDARD
BEGIN:DAYLIGHT
TZOFFSETFROM:-0800
TZOFFSETTO:-0700
TZNAME:PDT
DTSTART:20250309T100000
END:DAYLIGHT
BEGIN:STANDARD
TZOFFSETFROM:-0700
TZOFFSETTO:-0800
TZNAME:PST
DTSTART:20251102T090000
END:STANDARD
BEGIN:DAYLIGHT
TZOFFSETFROM:-0800
TZOFFSETTO:-0700
TZNAME:PDT
DTSTART:20260308T100000
END:DAYLIGHT
BEGIN:STANDARD
TZOFFSETFROM:-0700
TZOFFSETTO:-0800
TZNAME:PST
DTSTART:20261101T090000
END:STANDARD
END:VTIMEZONE
BEGIN:VEVENT
DTSTART;TZID=America/Los_Angeles:20250413T150000
DTEND;TZID=America/Los_Angeles:20250413T170000
DTSTAMP:20260420T054616
CREATED:20250214T182618Z
LAST-MODIFIED:20250224T195056Z
UID:10002724-1744556400-1744563600@thegreenmanstore.com
SUMMARY:Protection 101: Warding with Scarlett Ced
DESCRIPTION:Join Scarlett Ced for Protection 101: Warding\, an empowering class that will teach you how to create energetic shields\, how to fortify your home\, and keep negative influences at bay in your physical environment. \nWhat You’ll Learn: \n\nThe fundamentals of warding and physical energetic protection\nHow to set up personal and home wards against negativity\nHow to maintain and refresh your wards for lasting strength\nParticipants will create their own ward to take home in this workshop\n\nIn person: $43 investment\, including materials.  \nOn Zoom: $33 investment\, no materials. \n**PLEASE NOTE: Payments for all Events\, Classes\, and Rituals at The Green Man are non-refundable.** \nTO REGISTER & PAY FOR THIS CLASS ON ZOOM\, CLICK BELOW: \n\n\n\n    \n\nTO REGISTER & PAY FOR THIS CLASS IN PERSON\, CLICK BELOW:
URL:https://thegreenmanstore.com/event/protection-101-warding-with-scarlett-ced/
LOCATION:The Green Man\, 824 North Hollywood Way\, Burbank\, CA\, 91505\, United States
CATEGORIES:Classes and Workshops
ATTACH;FMTTYPE=image/png:https://thegreenmanstore.com/wp-content/uploads/2025/02/Protection-101-Warding-13th-.png
GEO:34.1744781;-118.3800964
X-APPLE-STRUCTURED-LOCATION;VALUE=URI;X-ADDRESS=The Green Man 824 North Hollywood Way Burbank CA 91505 United States;X-APPLE-RADIUS=500;X-TITLE=824 North Hollywood Way:geo:-118.3800964,34.1744781
END:VEVENT
END:VCALENDAR