
BEGIN:VCALENDAR
VERSION:2.0
PRODID:-//The Green Man Store - ECPv6.15.17//NONSGML v1.0//EN
CALSCALE:GREGORIAN
METHOD:PUBLISH
X-WR-CALNAME:The Green Man Store
X-ORIGINAL-URL:https://thegreenmanstore.com
X-WR-CALDESC:Events for The Green Man Store
REFRESH-INTERVAL;VALUE=DURATION:PT1H
X-Robots-Tag:noindex
X-PUBLISHED-TTL:PT1H
BEGIN:VTIMEZONE
TZID:America/Los_Angeles
BEGIN:DAYLIGHT
TZOFFSETFROM:-0800
TZOFFSETTO:-0700
TZNAME:PDT
DTSTART:20230312T100000
END:DAYLIGHT
BEGIN:STANDARD
TZOFFSETFROM:-0700
TZOFFSETTO:-0800
TZNAME:PST
DTSTART:20231105T090000
END:STANDARD
BEGIN:DAYLIGHT
TZOFFSETFROM:-0800
TZOFFSETTO:-0700
TZNAME:PDT
DTSTART:20240310T100000
END:DAYLIGHT
BEGIN:STANDARD
TZOFFSETFROM:-0700
TZOFFSETTO:-0800
TZNAME:PST
DTSTART:20241103T090000
END:STANDARD
BEGIN:DAYLIGHT
TZOFFSETFROM:-0800
TZOFFSETTO:-0700
TZNAME:PDT
DTSTART:20250309T100000
END:DAYLIGHT
BEGIN:STANDARD
TZOFFSETFROM:-0700
TZOFFSETTO:-0800
TZNAME:PST
DTSTART:20251102T090000
END:STANDARD
END:VTIMEZONE
BEGIN:VEVENT
DTSTART;TZID=America/Los_Angeles:20241102T150000
DTEND;TZID=America/Los_Angeles:20241102T170000
DTSTAMP:20260425T151732
CREATED:20241015T231647Z
LAST-MODIFIED:20241015T231647Z
UID:10002634-1730559600-1730566800@thegreenmanstore.com
SUMMARY:Warding & Protection hybrid class with Scarlett
DESCRIPTION:Please join Scarlett Ced in a two hour workshop on Warding & Protection. This class explores the fundamentals of warding and protection magic\, designed to shield individuals and spaces from unwanted influences\, both spiritual and energetic. Participants will learn how to create personalized wards and use objects as powerful symbols of defense. \nKey Topics Covered:\nTypes of Wards: DIscussion on various forms of wards\, from elemental to sigil-based\, and how to align them with your intent.\nCreating and Empowering Wards: Step-by-step techniques for building energetic barriers using visualization\, symbols\, and ritual tools.\nProtection Symbols & Tools: Learn about common protection symbols (such as pentacles\, the Evil Eye\, and others) and how to use crystals\, herbs\, and oils for added protection.\nPractical Applications: Participants will craft their own protective amulets and learn how to maintain and recharge wards over time. \nClass fee: $33 in person\, $28 on zoom. \n**PLEASE NOTE: Payments for all Events\, Classes\, and Rituals at The Green Man are non-refundable.** \n\nTO REGISTER & PAY FOR THIS CLASS ON ZOOM\, CLICK BELOW: \n\n\n\n    \n\n\n\nTO REGISTER & PAY FOR THIS CLASS IN PERSON\, CLICK BELOW:
URL:https://thegreenmanstore.com/event/warding-protection-hybrid-class-with-scarlett/
LOCATION:The Green Man\, 824 North Hollywood Way\, Burbank\, CA\, 91505\, United States
CATEGORIES:Classes and Workshops
ATTACH;FMTTYPE=image/png:https://thegreenmanstore.com/wp-content/uploads/2024/10/Warding-Protection.png
GEO:34.1744781;-118.3800964
X-APPLE-STRUCTURED-LOCATION;VALUE=URI;X-ADDRESS=The Green Man 824 North Hollywood Way Burbank CA 91505 United States;X-APPLE-RADIUS=500;X-TITLE=824 North Hollywood Way:geo:-118.3800964,34.1744781
END:VEVENT
END:VCALENDAR