
BEGIN:VCALENDAR
VERSION:2.0
PRODID:-//The Green Man Store - ECPv6.15.17//NONSGML v1.0//EN
CALSCALE:GREGORIAN
METHOD:PUBLISH
X-WR-CALNAME:The Green Man Store
X-ORIGINAL-URL:https://thegreenmanstore.com
X-WR-CALDESC:Events for The Green Man Store
REFRESH-INTERVAL;VALUE=DURATION:PT1H
X-Robots-Tag:noindex
X-PUBLISHED-TTL:PT1H
BEGIN:VTIMEZONE
TZID:America/Los_Angeles
BEGIN:DAYLIGHT
TZOFFSETFROM:-0800
TZOFFSETTO:-0700
TZNAME:PDT
DTSTART:20230312T100000
END:DAYLIGHT
BEGIN:STANDARD
TZOFFSETFROM:-0700
TZOFFSETTO:-0800
TZNAME:PST
DTSTART:20231105T090000
END:STANDARD
BEGIN:DAYLIGHT
TZOFFSETFROM:-0800
TZOFFSETTO:-0700
TZNAME:PDT
DTSTART:20240310T100000
END:DAYLIGHT
BEGIN:STANDARD
TZOFFSETFROM:-0700
TZOFFSETTO:-0800
TZNAME:PST
DTSTART:20241103T090000
END:STANDARD
BEGIN:DAYLIGHT
TZOFFSETFROM:-0800
TZOFFSETTO:-0700
TZNAME:PDT
DTSTART:20250309T100000
END:DAYLIGHT
BEGIN:STANDARD
TZOFFSETFROM:-0700
TZOFFSETTO:-0800
TZNAME:PST
DTSTART:20251102T090000
END:STANDARD
END:VTIMEZONE
BEGIN:VEVENT
DTSTART;TZID=America/Los_Angeles:20240403T193000
DTEND;TZID=America/Los_Angeles:20240403T213000
DTSTAMP:20260425T063032
CREATED:20240227T220328Z
LAST-MODIFIED:20240227T220328Z
UID:10002428-1712172600-1712179800@thegreenmanstore.com
SUMMARY:Intro to Runes with Scarlett - Hybrid Series
DESCRIPTION:Join Scarlett Ced for an introductory series on Runes. In addition to an in depth discussion of the meaning of each rune\, topics explored include an introduction to using magical alphabets\, a history of the runes\, using runes as divination tools\, magical uses of runes and spell crafting. This will be a 6-Week Series Class\, in person at The Green Man Store and hybrid over Zoom. Classes will occur on Wednesday evenings from 7:30 – 9:30pm. The series will run from March 20th to April 24th. \nWeek 1: Overview & History of the Runes. The 1St Aett – Fehu\, Uruz\, Thurisaz\, and Ansuz \nWeek 2: The 1st Aett Continued – Raidho\, Kenaz\, Gebo and Wunjo \nWeek 3: Exploring the 2nd Aett – Hagalaz\, Nauthiz\, Isa and Jera \nWeek 4: Exploring the 2nd Aett Continued – Eihwaz\, Perthro\, Algiz\, Sowilo \nWeek 5: Exploring the 3rd Aett – Tiwaz\, Berkana\, Ehwaz\, and Mannaz \nWeek 6: Exploring the 3rd Aett Continued – Laguz\, Inguz\, Dagaz\, and Othala \nClass fees: \nON ZOOM: $28 per class; $138 for 6 week Series if paid in full by first class (a $5 per class savings when paid in full). \nIN PERSON: $33 per class; $168 for 6 week Series if paid in full by first class (a $5 per class savings when paid in full). \n**PLEASE NOTE: Payments for all Events\, Classes\, and Rituals at The Green Man are non-refundable.** \n\nTO REGISTER & PAY FOR THE SERIES ON ZOOM\, CLICK BELOW: \n\n\n\n    \n\nTO REGISTER & PAY FOR THE SERIES IN PERSON\, CLICK BELOW \n\n\n\n    \n \nTO REGISTER & PAY FOR THIS CLASS ON ZOOM\, CLICK BELOW: \n\n\n\n    \n\nTO REGISTER & PAY FOR THIS CLASS IN PERSON\, CLICK BELOW:
URL:https://thegreenmanstore.com/event/intro-to-runes-with-scarlett-hybrid-series/2024-04-03/
LOCATION:The Green Man\, 824 North Hollywood Way\, Burbank\, CA\, 91505\, United States
CATEGORIES:Classes and Workshops
ATTACH;FMTTYPE=image/jpeg:https://thegreenmanstore.com/wp-content/uploads/2024/02/PHOTO-2024-02-26-19-00-18.jpg
GEO:34.1744781;-118.3800964
X-APPLE-STRUCTURED-LOCATION;VALUE=URI;X-ADDRESS=The Green Man 824 North Hollywood Way Burbank CA 91505 United States;X-APPLE-RADIUS=500;X-TITLE=824 North Hollywood Way:geo:-118.3800964,34.1744781
END:VEVENT
END:VCALENDAR