
BEGIN:VCALENDAR
VERSION:2.0
PRODID:-//The Green Man Store - ECPv6.15.17//NONSGML v1.0//EN
CALSCALE:GREGORIAN
METHOD:PUBLISH
X-WR-CALNAME:The Green Man Store
X-ORIGINAL-URL:https://thegreenmanstore.com
X-WR-CALDESC:Events for The Green Man Store
REFRESH-INTERVAL;VALUE=DURATION:PT1H
X-Robots-Tag:noindex
X-PUBLISHED-TTL:PT1H
BEGIN:VTIMEZONE
TZID:America/Los_Angeles
BEGIN:DAYLIGHT
TZOFFSETFROM:-0800
TZOFFSETTO:-0700
TZNAME:PDT
DTSTART:20230312T100000
END:DAYLIGHT
BEGIN:STANDARD
TZOFFSETFROM:-0700
TZOFFSETTO:-0800
TZNAME:PST
DTSTART:20231105T090000
END:STANDARD
BEGIN:DAYLIGHT
TZOFFSETFROM:-0800
TZOFFSETTO:-0700
TZNAME:PDT
DTSTART:20240310T100000
END:DAYLIGHT
BEGIN:STANDARD
TZOFFSETFROM:-0700
TZOFFSETTO:-0800
TZNAME:PST
DTSTART:20241103T090000
END:STANDARD
BEGIN:DAYLIGHT
TZOFFSETFROM:-0800
TZOFFSETTO:-0700
TZNAME:PDT
DTSTART:20250309T100000
END:DAYLIGHT
BEGIN:STANDARD
TZOFFSETFROM:-0700
TZOFFSETTO:-0800
TZNAME:PST
DTSTART:20251102T090000
END:STANDARD
END:VTIMEZONE
BEGIN:VEVENT
DTSTART;TZID=America/Los_Angeles:20241012T193000
DTEND;TZID=America/Los_Angeles:20241012T213000
DTSTAMP:20260423T095152
CREATED:20240726T201227Z
LAST-MODIFIED:20240910T223234Z
UID:10002496-1728761400-1728768600@thegreenmanstore.com
SUMMARY:The Dance of Aphrodite with Shana
DESCRIPTION:Connect to your inner goddess by diving deep into self expression through beauty and movement. This event ties in elements of divine feminine\, mythology\, innate trance-like movement and ritual to honor the goddess of love and beauty\, Aphrodite\, and give her time and space in our lives. We will start the evening with connecting to the goddess by learning  some of her lore and  about items sacred to her before moving on to writing petitions and honoring her with ritualistic dance. \nThe dance portion of this event will be done in chairs to help accommodate people with restricted movement. The room will be light by candle light only\, leaving it dim  enough that we may abandon reservation and issues of confidence\, thus allowing each participant to safely and fully revel in the moment and divine presence of Aphrodite. \nFeel free to bring items such as rose quartz\, jade\, or copper to place on the altar so that you can take home a tangible connection to Venus as well as any offerings that you would like to gift Her. \nPlease come in comfortable clothing and bring a bottle of water. \nOctober 12th  7:30pm \nClass fee $33 \n**PLEASE NOTE: Payments for all Events\, Classes\, and Rituals at The Green Man are non-refundable.** \n\nTO REGISTER & PAY FOR THIS CLASS\, CLICK BELOW:
URL:https://thegreenmanstore.com/event/the-dance-of-aphrodite-with-shana/
LOCATION:The Green Man\, 824 North Hollywood Way\, Burbank\, CA\, 91505\, United States
CATEGORIES:Classes and Workshops
ATTACH;FMTTYPE=image/jpeg:https://thegreenmanstore.com/wp-content/uploads/2024/07/PHOTO-2024-09-10-13-40-30.jpg
GEO:34.1744781;-118.3800964
X-APPLE-STRUCTURED-LOCATION;VALUE=URI;X-ADDRESS=The Green Man 824 North Hollywood Way Burbank CA 91505 United States;X-APPLE-RADIUS=500;X-TITLE=824 North Hollywood Way:geo:-118.3800964,34.1744781
END:VEVENT
END:VCALENDAR