
BEGIN:VCALENDAR
VERSION:2.0
PRODID:-//The Green Man Store - ECPv6.15.17//NONSGML v1.0//EN
CALSCALE:GREGORIAN
METHOD:PUBLISH
X-WR-CALNAME:The Green Man Store
X-ORIGINAL-URL:https://thegreenmanstore.com
X-WR-CALDESC:Events for The Green Man Store
REFRESH-INTERVAL;VALUE=DURATION:PT1H
X-Robots-Tag:noindex
X-PUBLISHED-TTL:PT1H
BEGIN:VTIMEZONE
TZID:America/Los_Angeles
BEGIN:DAYLIGHT
TZOFFSETFROM:-0800
TZOFFSETTO:-0700
TZNAME:PDT
DTSTART:20230312T100000
END:DAYLIGHT
BEGIN:STANDARD
TZOFFSETFROM:-0700
TZOFFSETTO:-0800
TZNAME:PST
DTSTART:20231105T090000
END:STANDARD
BEGIN:DAYLIGHT
TZOFFSETFROM:-0800
TZOFFSETTO:-0700
TZNAME:PDT
DTSTART:20240310T100000
END:DAYLIGHT
BEGIN:STANDARD
TZOFFSETFROM:-0700
TZOFFSETTO:-0800
TZNAME:PST
DTSTART:20241103T090000
END:STANDARD
BEGIN:DAYLIGHT
TZOFFSETFROM:-0800
TZOFFSETTO:-0700
TZNAME:PDT
DTSTART:20250309T100000
END:DAYLIGHT
BEGIN:STANDARD
TZOFFSETFROM:-0700
TZOFFSETTO:-0800
TZNAME:PST
DTSTART:20251102T090000
END:STANDARD
END:VTIMEZONE
BEGIN:VEVENT
DTSTART;TZID=America/Los_Angeles:20240803T193000
DTEND;TZID=America/Los_Angeles:20240803T223000
DTSTAMP:20260425T044959
CREATED:20240710T014139Z
LAST-MODIFIED:20240710T014139Z
UID:10002490-1722713400-1722724200@thegreenmanstore.com
SUMMARY:Lughnasadh Ritual with L.A. Reclaiming
DESCRIPTION:Join us as we celebrate the beginning of harvest season at The Green Man Store! Lughnasadh—also called Lammas or Loaf-mas—is the festival of the first bread\, and with it\, a celebration of the god Lugh. Lugh is the god of the lightning strike\, the master of many tools\, and a quick-tongued warrior who uses truth as one of His weapons. Lugh is the unlikely leader who knows the ins and outs of resisting an empire\, and in this season\, we follow His lead\, celebrating not only the gifts of the earth that sustain us\, but also the sacrifices and acts of resistance that allow us to thrive. For this ritual\, we will gather at The Green Man Store in the evening to welcome in this season of abundance together. \n◎○●⦿○●⦿◎○●⦿○●⦿ \nSATURDAY\, AUGUST 3\, 2024 \n7:30PM: Doors Open \n8:00PM: Ritual Begins \nENTRY FEE: $15/per person \n● Cash preferred. \n● No one turned away for lack of funds. \nYour entry fee allows us to support and continue to hold events at The Green Man\, a small business that has served a wide community of LA witches for many years. \nReclaiming LA is committed to economic justice\, and we recognize that this fee may pose a financial hardship for some of our community members. If you plan to attend the ritual and you are unable to pay the entry fee\, we welcome you to email info@reclaimingla.org\, and we will add you to a list of those who will receive free entry to the ritual space. No questions will be asked\, and there is no need to provide justification for your request. \n◎○●⦿○●⦿◎○●⦿○●⦿ \nLOCATION \nThe Green Man Store \n824 N Hollywood Way \nBurbank\, CA 91505 \n◎○●⦿○●⦿◎○●⦿○●⦿ \nINFO \n● If you are called\, please bring an offering of 1-3 minutes for our pre-ritual Bardic circle\, such as a song\, poem\, or story you are willing to share. \n● Doors open as early as 7:30 and will be locked shortly after the ritual start time of 8PM. Please plan to arrive before 8PM to ensure you will be able to attend. \n● All genders and gender expressions welcome! \n● Children welcome with adult supervision. \n● To support those in recovery\, this ritual is drug and alcohol free. \nACCESSIBILITY \nThe ritual space in the new Green Man location is INDOORS in a spacious room behind the shop area. Access to the ritual space is level and wide enough for wheelchair access. Access requires going through the store\, which may have strong scents from the incenses and oils sold there. The temple space is quiet and should have good acoustics\, though we have not yet held a ritual in their new space yet. The space will likely be dimly lit during the ritual. Chairs are available for those needing to sit for part of or all of the ritual\, and the ritual is structured to allow for participation also while seated. \nStreet parking is free and plentiful in the evenings. \nWe have written this accessibility statement to be as inclusive as possible so that people with accessibility concerns do not have to do the labor of asking. If we have overlooked some aspect\, please email us at info@reclaimingla.org.
URL:https://thegreenmanstore.com/event/lughnasadh-ritual-with-l-a-reclaiming-2/
LOCATION:The Green Man\, 824 North Hollywood Way\, Burbank\, CA\, 91505\, United States
CATEGORIES:Group Rituals, Ceremonies, and Workings,Sabbats
ATTACH;FMTTYPE=image/jpeg:https://thegreenmanstore.com/wp-content/uploads/2024/07/PHOTO-2024-07-08-21-13-25.jpg
GEO:34.1744781;-118.3800964
X-APPLE-STRUCTURED-LOCATION;VALUE=URI;X-ADDRESS=The Green Man 824 North Hollywood Way Burbank CA 91505 United States;X-APPLE-RADIUS=500;X-TITLE=824 North Hollywood Way:geo:-118.3800964,34.1744781
END:VEVENT
END:VCALENDAR