
BEGIN:VCALENDAR
VERSION:2.0
PRODID:-//The Green Man Store - ECPv6.15.17//NONSGML v1.0//EN
CALSCALE:GREGORIAN
METHOD:PUBLISH
X-WR-CALNAME:The Green Man Store
X-ORIGINAL-URL:https://thegreenmanstore.com
X-WR-CALDESC:Events for The Green Man Store
REFRESH-INTERVAL;VALUE=DURATION:PT1H
X-Robots-Tag:noindex
X-PUBLISHED-TTL:PT1H
BEGIN:VTIMEZONE
TZID:America/Los_Angeles
BEGIN:DAYLIGHT
TZOFFSETFROM:-0800
TZOFFSETTO:-0700
TZNAME:PDT
DTSTART:20230312T100000
END:DAYLIGHT
BEGIN:STANDARD
TZOFFSETFROM:-0700
TZOFFSETTO:-0800
TZNAME:PST
DTSTART:20231105T090000
END:STANDARD
BEGIN:DAYLIGHT
TZOFFSETFROM:-0800
TZOFFSETTO:-0700
TZNAME:PDT
DTSTART:20240310T100000
END:DAYLIGHT
BEGIN:STANDARD
TZOFFSETFROM:-0700
TZOFFSETTO:-0800
TZNAME:PST
DTSTART:20241103T090000
END:STANDARD
BEGIN:DAYLIGHT
TZOFFSETFROM:-0800
TZOFFSETTO:-0700
TZNAME:PDT
DTSTART:20250309T100000
END:DAYLIGHT
BEGIN:STANDARD
TZOFFSETFROM:-0700
TZOFFSETTO:-0800
TZNAME:PST
DTSTART:20251102T090000
END:STANDARD
END:VTIMEZONE
BEGIN:VEVENT
DTSTART;TZID=America/Los_Angeles:20240727T193000
DTEND;TZID=America/Los_Angeles:20240727T223000
DTSTAMP:20260425T070523
CREATED:20240713T190834Z
LAST-MODIFIED:20240716T202302Z
UID:10002492-1722108600-1722119400@thegreenmanstore.com
SUMMARY:Lughnasadh Public Druid Ritual with Raven's Cry ADF
DESCRIPTION:Join in the revelry as Ravens Cry Grove celebrates the ancient rite of Lughnasadh! \nWe will honor our Grove Patron\, Lugh the long armed. Our Grove Champion for 2024 will be announced. \nCome test your strength and cunning or simply bear witness as we celebrate the season and appreciate all we have worked hard to harvest this year. \nRitual starting time is 8pm on Saturday July 27\, but please come early as the store will be locked at 8. Parking is easy on the street. \n– After ritual we all can enjoy potluck. \n– To help us present excellent public rituals and support Pagan Pride LA/OC Sempervirens Fund and other charities\, please consider a $15 donation. No one will be turned away for lack of funds. Donations may also be made on our website.\n– also\, see “For Our Guests” on our website https://ravenscrygrove.org
URL:https://thegreenmanstore.com/event/lughnasadh-public-druid-ritual-with-ravens-cry-adf-2/
LOCATION:The Green Man\, 824 North Hollywood Way\, Burbank\, CA\, 91505\, United States
CATEGORIES:Group Rituals, Ceremonies, and Workings,Sabbats
ATTACH;FMTTYPE=image/jpeg:https://thegreenmanstore.com/wp-content/uploads/2024/07/PHOTO-2024-07-14-11-25-05.jpg
GEO:34.1744781;-118.3800964
X-APPLE-STRUCTURED-LOCATION;VALUE=URI;X-ADDRESS=The Green Man 824 North Hollywood Way Burbank CA 91505 United States;X-APPLE-RADIUS=500;X-TITLE=824 North Hollywood Way:geo:-118.3800964,34.1744781
END:VEVENT
END:VCALENDAR