
BEGIN:VCALENDAR
VERSION:2.0
PRODID:-//The Green Man Store - ECPv6.15.17//NONSGML v1.0//EN
CALSCALE:GREGORIAN
METHOD:PUBLISH
X-ORIGINAL-URL:https://thegreenmanstore.com
X-WR-CALDESC:Events for The Green Man Store
REFRESH-INTERVAL;VALUE=DURATION:PT1H
X-Robots-Tag:noindex
X-PUBLISHED-TTL:PT1H
BEGIN:VTIMEZONE
TZID:America/Los_Angeles
BEGIN:DAYLIGHT
TZOFFSETFROM:-0800
TZOFFSETTO:-0700
TZNAME:PDT
DTSTART:20240310T100000
END:DAYLIGHT
BEGIN:STANDARD
TZOFFSETFROM:-0700
TZOFFSETTO:-0800
TZNAME:PST
DTSTART:20241103T090000
END:STANDARD
BEGIN:DAYLIGHT
TZOFFSETFROM:-0800
TZOFFSETTO:-0700
TZNAME:PDT
DTSTART:20250309T100000
END:DAYLIGHT
BEGIN:STANDARD
TZOFFSETFROM:-0700
TZOFFSETTO:-0800
TZNAME:PST
DTSTART:20251102T090000
END:STANDARD
BEGIN:DAYLIGHT
TZOFFSETFROM:-0800
TZOFFSETTO:-0700
TZNAME:PDT
DTSTART:20260308T100000
END:DAYLIGHT
BEGIN:STANDARD
TZOFFSETFROM:-0700
TZOFFSETTO:-0800
TZNAME:PST
DTSTART:20261101T090000
END:STANDARD
END:VTIMEZONE
BEGIN:VEVENT
DTSTART;TZID=America/Los_Angeles:20250126T120000
DTEND;TZID=America/Los_Angeles:20250126T140000
DTSTAMP:20260420T123938
CREATED:20250107T210133Z
LAST-MODIFIED:20250113T181837Z
UID:10002697-1737892800-1737900000@thegreenmanstore.com
SUMMARY:SEX\, LOVE AND TAROT  HYBRID  CLASS WITH PLEASANT GEHMAN
DESCRIPTION: IN PERSON AND ON ZOOM \n Ask any professional psychic and they will agree that the mostfrequently asked questions are about relationships. \n In this class\, you’ll learn to do accurate love readings even if the cards that come up seem to have nothing to do with romance. You’ll discover hidden clues in the Major and Minor Arcana and we’ll take a deep dive into the Court Cards\, which always represent people. You’ll get the tools you’ll need to illuminate the situation…even if it goes beyond “It’s complicated”. \n**PLEASE NOTE: Payments for all Events\, Classes\, and Rituals at The Green Man are non-refundable.** \nTO REGISTER & PAY FOR THIS CLASS ON ZOOM\, CLICK BELOW: \n\n\n\n    \n\nTO REGISTER & PAY FOR THIS CLASS IN PERSON\, CLICK BELOW:
URL:https://thegreenmanstore.com/event/sex-love-and-tarot-class-with-pleasant-gehman/
LOCATION:CA
CATEGORIES:Classes and Workshops
ATTACH;FMTTYPE=image/jpeg:https://thegreenmanstore.com/wp-content/uploads/2025/01/WhatsApp-Image-2025-01-07-at-12.58.05.jpeg
END:VEVENT
END:VCALENDAR