
BEGIN:VCALENDAR
VERSION:2.0
PRODID:-//The Green Man Store - ECPv6.15.17//NONSGML v1.0//EN
CALSCALE:GREGORIAN
METHOD:PUBLISH
X-WR-CALNAME:The Green Man Store
X-ORIGINAL-URL:https://thegreenmanstore.com
X-WR-CALDESC:Events for The Green Man Store
REFRESH-INTERVAL;VALUE=DURATION:PT1H
X-Robots-Tag:noindex
X-PUBLISHED-TTL:PT1H
BEGIN:VTIMEZONE
TZID:America/Los_Angeles
BEGIN:DAYLIGHT
TZOFFSETFROM:-0800
TZOFFSETTO:-0700
TZNAME:PDT
DTSTART:20230312T100000
END:DAYLIGHT
BEGIN:STANDARD
TZOFFSETFROM:-0700
TZOFFSETTO:-0800
TZNAME:PST
DTSTART:20231105T090000
END:STANDARD
BEGIN:DAYLIGHT
TZOFFSETFROM:-0800
TZOFFSETTO:-0700
TZNAME:PDT
DTSTART:20240310T100000
END:DAYLIGHT
BEGIN:STANDARD
TZOFFSETFROM:-0700
TZOFFSETTO:-0800
TZNAME:PST
DTSTART:20241103T090000
END:STANDARD
BEGIN:DAYLIGHT
TZOFFSETFROM:-0800
TZOFFSETTO:-0700
TZNAME:PDT
DTSTART:20250309T100000
END:DAYLIGHT
BEGIN:STANDARD
TZOFFSETFROM:-0700
TZOFFSETTO:-0800
TZNAME:PST
DTSTART:20251102T090000
END:STANDARD
END:VTIMEZONE
BEGIN:VEVENT
DTSTART;TZID=America/Los_Angeles:20240120T120000
DTEND;TZID=America/Los_Angeles:20240120T140000
DTSTAMP:20260425T073016
CREATED:20240107T230253Z
LAST-MODIFIED:20240108T010743Z
UID:10002406-1705752000-1705759200@thegreenmanstore.com
SUMMARY:Psychic Telepathy class Melissa St. Hilaire
DESCRIPTION:Telepathy Workshop with Melissa St. Hilaire\nIn-Person at the Green Man store\nJanuary 20th 12pm-2pm $28 \nTelepathy is defined as communication from one mind to another by extrasensory means and is the cornerstone of all psychic and mediumship development. \nIn this single-class workshop\, we’ll discuss what telepathy is and isn’t and how it correlates to both the living and the dead\, animals and nature. Then\, I’ll take you on a guided meditation to help open your mind to receiving and transmitting information and energy. We’ll close with a group exercise based on unique cards invented by psychologist Karl Zener to be used in experiments on telepathy and clairvoyance to hone your innate abilities and keep your mind’s eye sharp. \nIf you took my Mediumship for Witches Part 1 series\, this is an excellent way to keep yourself tuned in a group setting for Part 2 coming this summer. \nTO REGISTER & PAY FOR THIS CLASS\, CLICK BELOW:
URL:https://thegreenmanstore.com/event/psychic-telepathy-class-melissa-st-hilaire/
LOCATION:The Green Man\, 824 North Hollywood Way\, Burbank\, CA\, 91505\, United States
CATEGORIES:Classes and Workshops
ATTACH;FMTTYPE=image/jpeg:https://thegreenmanstore.com/wp-content/uploads/2024/01/PHOTO-2024-01-07-15-08-26.jpg
GEO:34.1744781;-118.3800964
X-APPLE-STRUCTURED-LOCATION;VALUE=URI;X-ADDRESS=The Green Man 824 North Hollywood Way Burbank CA 91505 United States;X-APPLE-RADIUS=500;X-TITLE=824 North Hollywood Way:geo:-118.3800964,34.1744781
END:VEVENT
END:VCALENDAR