
BEGIN:VCALENDAR
VERSION:2.0
PRODID:-//The Green Man Store - ECPv6.15.17//NONSGML v1.0//EN
CALSCALE:GREGORIAN
METHOD:PUBLISH
X-ORIGINAL-URL:https://thegreenmanstore.com
X-WR-CALDESC:Events for The Green Man Store
REFRESH-INTERVAL;VALUE=DURATION:PT1H
X-Robots-Tag:noindex
X-PUBLISHED-TTL:PT1H
BEGIN:VTIMEZONE
TZID:America/Los_Angeles
BEGIN:DAYLIGHT
TZOFFSETFROM:-0800
TZOFFSETTO:-0700
TZNAME:PDT
DTSTART:20240310T100000
END:DAYLIGHT
BEGIN:STANDARD
TZOFFSETFROM:-0700
TZOFFSETTO:-0800
TZNAME:PST
DTSTART:20241103T090000
END:STANDARD
BEGIN:DAYLIGHT
TZOFFSETFROM:-0800
TZOFFSETTO:-0700
TZNAME:PDT
DTSTART:20250309T100000
END:DAYLIGHT
BEGIN:STANDARD
TZOFFSETFROM:-0700
TZOFFSETTO:-0800
TZNAME:PST
DTSTART:20251102T090000
END:STANDARD
BEGIN:DAYLIGHT
TZOFFSETFROM:-0800
TZOFFSETTO:-0700
TZNAME:PDT
DTSTART:20260308T100000
END:DAYLIGHT
BEGIN:STANDARD
TZOFFSETFROM:-0700
TZOFFSETTO:-0800
TZNAME:PST
DTSTART:20261101T090000
END:STANDARD
END:VTIMEZONE
BEGIN:VEVENT
DTSTART;TZID=America/Los_Angeles:20250906T193000
DTEND;TZID=America/Los_Angeles:20250906T223000
DTSTAMP:20260420T114833
CREATED:20250729T144254Z
LAST-MODIFIED:20250729T144254Z
UID:10002819-1757187000-1757197800@thegreenmanstore.com
SUMMARY:Hekate Ritual with the Temple of Ced
DESCRIPTION:Saturday 6th of September\, come join with us for a Temple of Ced celebration and working with Hekate as we gather with our most amazing traditional witchcraft community! \nHekate is probably one of the most notorious Witch Goddesses worked with today!  She is heralded as a powerful Goddess of Crossroads\, Magic\, and Witchery\,  just to mention a few of her attributes.  Though we always love to have fun\, this will likely also be a high-powered working\, so please also bring a dish to share for the potluck social gathering after the Ritual. \nOut of respect to us\, please abide by the Law: people need to be over 21 to drink.  Adults who are over 21 are asked to please be adult in their drinking approach and drink responsibly so we all get to have some fun. \nWe gather at 7:30pm for an 8pm Rite\n$15 Donation requested. Space is limited; register in advance to secure a spot! \n**PLEASE NOTE: Payments for all Events\, Classes\, and Rituals at The Green Man are non-refundable.** \nTO REGISTER IN ADVANCE\, CLICK BELOW:
URL:https://thegreenmanstore.com/event/hekate-ritual-with-the-temple-of-ced-2/
LOCATION:The Green Man\, 824 North Hollywood Way\, Burbank\, CA\, 91505\, United States
CATEGORIES:Esbats,Group Rituals, Ceremonies, and Workings
ATTACH;FMTTYPE=image/jpeg:https://thegreenmanstore.com/wp-content/uploads/2025/07/PHOTO-2025-07-26-19-50-54.jpg
GEO:34.1744781;-118.3800964
X-APPLE-STRUCTURED-LOCATION;VALUE=URI;X-ADDRESS=The Green Man 824 North Hollywood Way Burbank CA 91505 United States;X-APPLE-RADIUS=500;X-TITLE=824 North Hollywood Way:geo:-118.3800964,34.1744781
END:VEVENT
END:VCALENDAR