
BEGIN:VCALENDAR
VERSION:2.0
PRODID:-//The Green Man Store - ECPv6.15.17//NONSGML v1.0//EN
CALSCALE:GREGORIAN
METHOD:PUBLISH
X-WR-CALNAME:The Green Man Store
X-ORIGINAL-URL:https://thegreenmanstore.com
X-WR-CALDESC:Events for The Green Man Store
REFRESH-INTERVAL;VALUE=DURATION:PT1H
X-Robots-Tag:noindex
X-PUBLISHED-TTL:PT1H
BEGIN:VTIMEZONE
TZID:America/Los_Angeles
BEGIN:DAYLIGHT
TZOFFSETFROM:-0800
TZOFFSETTO:-0700
TZNAME:PDT
DTSTART:20240310T100000
END:DAYLIGHT
BEGIN:STANDARD
TZOFFSETFROM:-0700
TZOFFSETTO:-0800
TZNAME:PST
DTSTART:20241103T090000
END:STANDARD
BEGIN:DAYLIGHT
TZOFFSETFROM:-0800
TZOFFSETTO:-0700
TZNAME:PDT
DTSTART:20250309T100000
END:DAYLIGHT
BEGIN:STANDARD
TZOFFSETFROM:-0700
TZOFFSETTO:-0800
TZNAME:PST
DTSTART:20251102T090000
END:STANDARD
BEGIN:DAYLIGHT
TZOFFSETFROM:-0800
TZOFFSETTO:-0700
TZNAME:PDT
DTSTART:20260308T100000
END:DAYLIGHT
BEGIN:STANDARD
TZOFFSETFROM:-0700
TZOFFSETTO:-0800
TZNAME:PST
DTSTART:20261101T090000
END:STANDARD
END:VTIMEZONE
BEGIN:VEVENT
DTSTART;TZID=America/Los_Angeles:20250322T193000
DTEND;TZID=America/Los_Angeles:20250322T223000
DTSTAMP:20260420T031432
CREATED:20250308T021012Z
LAST-MODIFIED:20250308T021618Z
UID:10002741-1742671800-1742682600@thegreenmanstore.com
SUMMARY:Public Spring Equinox Ritual with RavensCry ADF Druid Grove
DESCRIPTION:Get out your togas (or not) and join us as we are inspired by the ancient Roman festival Liberalia\, in honor of deities Liber Pater\, Libera\, and Ceres. It is said that Liberalia\, dating some 500 years before Julius Caesar’s time\, was celebrated with sacrifices\, crude songs\, processions\, and liberties of all sorts. \nSaturday\, March 22\, 2025\, at 8pm at The Green Man Store in Burbank\, join Raven’s Cry Grove as we celebrate freedom. A donation of $15 is suggested for attendance but none will be turned away. \nArrive 7:30 for 8pm start. \n**PLEASE NOTE: Payments for all Events\, Classes\, and Rituals at The Green Man are non-refundable.** \nTO PRE-REGISTER & PAY FOR THIS EVENT\, CLICK BELOW:
URL:https://thegreenmanstore.com/event/public-spring-equinox-ritual-with-ravenscry-adf-druid-grove-2/
LOCATION:The Green Man\, 824 North Hollywood Way\, Burbank\, CA\, 91505\, United States
CATEGORIES:Group Rituals, Ceremonies, and Workings,Sabbats
ATTACH;FMTTYPE=image/jpeg:https://thegreenmanstore.com/wp-content/uploads/2025/03/PHOTO-2025-03-07-17-59-12.jpg
GEO:34.1744781;-118.3800964
X-APPLE-STRUCTURED-LOCATION;VALUE=URI;X-ADDRESS=The Green Man 824 North Hollywood Way Burbank CA 91505 United States;X-APPLE-RADIUS=500;X-TITLE=824 North Hollywood Way:geo:-118.3800964,34.1744781
END:VEVENT
END:VCALENDAR