
BEGIN:VCALENDAR
VERSION:2.0
PRODID:-//The Green Man Store - ECPv6.15.17//NONSGML v1.0//EN
CALSCALE:GREGORIAN
METHOD:PUBLISH
X-WR-CALNAME:The Green Man Store
X-ORIGINAL-URL:https://thegreenmanstore.com
X-WR-CALDESC:Events for The Green Man Store
REFRESH-INTERVAL;VALUE=DURATION:PT1H
X-Robots-Tag:noindex
X-PUBLISHED-TTL:PT1H
BEGIN:VTIMEZONE
TZID:America/Los_Angeles
BEGIN:DAYLIGHT
TZOFFSETFROM:-0800
TZOFFSETTO:-0700
TZNAME:PDT
DTSTART:20230312T100000
END:DAYLIGHT
BEGIN:STANDARD
TZOFFSETFROM:-0700
TZOFFSETTO:-0800
TZNAME:PST
DTSTART:20231105T090000
END:STANDARD
BEGIN:DAYLIGHT
TZOFFSETFROM:-0800
TZOFFSETTO:-0700
TZNAME:PDT
DTSTART:20240310T100000
END:DAYLIGHT
BEGIN:STANDARD
TZOFFSETFROM:-0700
TZOFFSETTO:-0800
TZNAME:PST
DTSTART:20241103T090000
END:STANDARD
BEGIN:DAYLIGHT
TZOFFSETFROM:-0800
TZOFFSETTO:-0700
TZNAME:PDT
DTSTART:20250309T100000
END:DAYLIGHT
BEGIN:STANDARD
TZOFFSETFROM:-0700
TZOFFSETTO:-0800
TZNAME:PST
DTSTART:20251102T090000
END:STANDARD
END:VTIMEZONE
BEGIN:VEVENT
DTSTART;TZID=America/Los_Angeles:20241228T200000
DTEND;TZID=America/Los_Angeles:20241228T223000
DTSTAMP:20260425T094128
CREATED:20241204T014722Z
LAST-MODIFIED:20241204T014722Z
UID:10002666-1735416000-1735425000@thegreenmanstore.com
SUMMARY:Yule Ritual with Raven's Cry ADF Druid Grove
DESCRIPTION:Join Raven’s Cry Grove\, ADF as we present a Norse Yule Ritual! \n  \nOn December 28\, 2024\, at 8pm at The Green Man Store\, join us as we celebrate a Raven’s Cry Grove\, ADF\, Yule honoring Baldr\, the Norse God of light\, beauty\, purity\, peace\, and forgiveness. We will welcome the return of the sun with joy and fellowship as the season of darkness comes to an end. The warmth of the light returns to us as the cold and dark begin to fade away\, replaced in our uplifted hearts with the glowing warmth of the sun. \n  \nWe hope to see you there! \n  \nDonation: To help us present excellent public rituals and support Pagan Pride LA/OC\, Pagan Community Retreat\, the Sempervirens Fund and other charities\, please consider a $15 donation. No one will be turned away for lack of funds. Donations may also be made on our website. \n  \nPotluck:  After the ritual\, we will enjoy potluck.  Feel welcomed to bring a dish to share! \nSeating:  The ritual will be inside and seating will be available for those who need it. \n  \nOfferings:  Please feel free to bring personal offerings for the ancestors\, nature spirits\, and deities. It does not need to be biodegradable\, but should be non-toxic if buried or put into water. \n  \nPet Policy:  Please do not bring pets. (Service animals allowed.) \nParking:  Street parking is available.  Carpooling is definitely encouraged. \nLocation:  The Green Man Store is located at 824 N Hollywood Way\, Burbank\, CA 91505
URL:https://thegreenmanstore.com/event/yule-ritual-with-ravens-cry-adf-druid-grove/
LOCATION:The Green Man\, 824 North Hollywood Way\, Burbank\, CA\, 91505\, United States
CATEGORIES:Group Rituals, Ceremonies, and Workings,Sabbats
GEO:34.1744781;-118.3800964
X-APPLE-STRUCTURED-LOCATION;VALUE=URI;X-ADDRESS=The Green Man 824 North Hollywood Way Burbank CA 91505 United States;X-APPLE-RADIUS=500;X-TITLE=824 North Hollywood Way:geo:-118.3800964,34.1744781
END:VEVENT
END:VCALENDAR