
BEGIN:VCALENDAR
VERSION:2.0
PRODID:-//The Green Man Store - ECPv6.15.17//NONSGML v1.0//EN
CALSCALE:GREGORIAN
METHOD:PUBLISH
X-WR-CALNAME:The Green Man Store
X-ORIGINAL-URL:https://thegreenmanstore.com
X-WR-CALDESC:Events for The Green Man Store
REFRESH-INTERVAL;VALUE=DURATION:PT1H
X-Robots-Tag:noindex
X-PUBLISHED-TTL:PT1H
BEGIN:VTIMEZONE
TZID:America/Los_Angeles
BEGIN:DAYLIGHT
TZOFFSETFROM:-0800
TZOFFSETTO:-0700
TZNAME:PDT
DTSTART:20230312T100000
END:DAYLIGHT
BEGIN:STANDARD
TZOFFSETFROM:-0700
TZOFFSETTO:-0800
TZNAME:PST
DTSTART:20231105T090000
END:STANDARD
BEGIN:DAYLIGHT
TZOFFSETFROM:-0800
TZOFFSETTO:-0700
TZNAME:PDT
DTSTART:20240310T100000
END:DAYLIGHT
BEGIN:STANDARD
TZOFFSETFROM:-0700
TZOFFSETTO:-0800
TZNAME:PST
DTSTART:20241103T090000
END:STANDARD
BEGIN:DAYLIGHT
TZOFFSETFROM:-0800
TZOFFSETTO:-0700
TZNAME:PDT
DTSTART:20250309T100000
END:DAYLIGHT
BEGIN:STANDARD
TZOFFSETFROM:-0700
TZOFFSETTO:-0800
TZNAME:PST
DTSTART:20251102T090000
END:STANDARD
END:VTIMEZONE
BEGIN:VEVENT
DTSTART;TZID=America/Los_Angeles:20240502T193000
DTEND;TZID=America/Los_Angeles:20240502T220000
DTSTAMP:20260425T134008
CREATED:20240227T221504Z
LAST-MODIFIED:20240619T232555Z
UID:10002432-1714678200-1714687200@thegreenmanstore.com
SUMMARY:Intro to Shamanism with Jerel
DESCRIPTION:AN INTRODUCTION TO SHAMANISM\nA 6-week In-Person Series w/ Jerel\nThursday Nights at 7:30pm\nMay 2 – June 13\, 2024\nPrice: $33 /single class | $153 /full series \nShamanism is an earth/ nature-based spiritual path found in many indigenous\, as well as modern\, traditions around the world. Throughout history the shaman was someone who\, within their tribe or community\, played many roles: healer\, diviner\, storyteller\, counselor\, priest\, leader. As such\, Shamans have been able to guide and heal their communities through their connection with spirits of the land\, their skill in tracking problematic patterns and energies\, and their ability to travel between the spirit realms. Presently\, there has been a resurgence of interest for Shamanism\, leading many people onto a path of healing and growth through reclaiming their lives on a physical\, emotional and spiritual level. \nIf you are new to Shamanism\, or simply want to learn more about it\, this series will help you cultivate an understanding of a Shamanic worldview. In this series we will explore and discuss the various commonalities amongst Shamanic traditions from around the world\, and demonstrate simple ways in which you may incorporate Shamanic practices and skills into your own spiritual practices and everyday lives. \nThis will be a 6-Week Series Class\, wherein each class will meet every Thursday night between 7:30pm – 10pm\, from May 2nd to June 13th. ***We will skip class the week of 5/30\, and resume\nthe following week at the The Green Man Store’s new location. New Store Location details will be discussed in class.*** \nThroughout the series\, each class will delve into a different fundamental theme within the study of Shamanism. While the option of “dropping in” at any point in the series is open\, to fully\, and cohesively\, benefit from the lessons and practices taught\, it is highly recommended to attend all classes in the series. \nClass Topics: \n5/2:     Class 1 – The Web of Life\n5/9:     Class 2 – Shamanic Journeying\n5/16:   Class 3 – Working with Nature Spirits\n5/23:   Class 4 – Spirit Animals & Guides \n***We will skip class the week of 5/30 & 6/6\, and resume\nthe following week at the store’s new location.*** \n6/13:     Class 5 – The Medicine Wheel\n6/20 :  Class 6 – Integrating the Shamanic Path \n**PLEASE NOTE: Payments for all Events\, Classes\, and Rituals at The Green Man are non-refundable.** \nTO REGISTER & PAY FOR THE FULL SERIES\, CLICK BELOW: \n\n\n\n    \n\nTO REGISTER & PAY FOR A SINGLE CLASS\, CLICK BELOW:
URL:https://thegreenmanstore.com/event/intro-to-shamanism-with-jerel/2024-05-02/
LOCATION:The Green Man\, 824 North Hollywood Way\, Burbank\, CA\, 91505\, United States
CATEGORIES:Classes and Workshops
ATTACH;FMTTYPE=image/jpeg:https://thegreenmanstore.com/wp-content/uploads/2024/02/PHOTO-2024-04-13-15-33-05.jpg
GEO:34.1744781;-118.3800964
X-APPLE-STRUCTURED-LOCATION;VALUE=URI;X-ADDRESS=The Green Man 824 North Hollywood Way Burbank CA 91505 United States;X-APPLE-RADIUS=500;X-TITLE=824 North Hollywood Way:geo:-118.3800964,34.1744781
END:VEVENT
BEGIN:VEVENT
DTSTART;TZID=America/Los_Angeles:20240509T193000
DTEND;TZID=America/Los_Angeles:20240509T220000
DTSTAMP:20260425T134008
CREATED:20240227T221504Z
LAST-MODIFIED:20240619T232555Z
UID:10002433-1715283000-1715292000@thegreenmanstore.com
SUMMARY:Intro to Shamanism with Jerel
DESCRIPTION:AN INTRODUCTION TO SHAMANISM\nA 6-week In-Person Series w/ Jerel\nThursday Nights at 7:30pm\nMay 2 – June 13\, 2024\nPrice: $33 /single class | $153 /full series \nShamanism is an earth/ nature-based spiritual path found in many indigenous\, as well as modern\, traditions around the world. Throughout history the shaman was someone who\, within their tribe or community\, played many roles: healer\, diviner\, storyteller\, counselor\, priest\, leader. As such\, Shamans have been able to guide and heal their communities through their connection with spirits of the land\, their skill in tracking problematic patterns and energies\, and their ability to travel between the spirit realms. Presently\, there has been a resurgence of interest for Shamanism\, leading many people onto a path of healing and growth through reclaiming their lives on a physical\, emotional and spiritual level. \nIf you are new to Shamanism\, or simply want to learn more about it\, this series will help you cultivate an understanding of a Shamanic worldview. In this series we will explore and discuss the various commonalities amongst Shamanic traditions from around the world\, and demonstrate simple ways in which you may incorporate Shamanic practices and skills into your own spiritual practices and everyday lives. \nThis will be a 6-Week Series Class\, wherein each class will meet every Thursday night between 7:30pm – 10pm\, from May 2nd to June 13th. ***We will skip class the week of 5/30\, and resume\nthe following week at the The Green Man Store’s new location. New Store Location details will be discussed in class.*** \nThroughout the series\, each class will delve into a different fundamental theme within the study of Shamanism. While the option of “dropping in” at any point in the series is open\, to fully\, and cohesively\, benefit from the lessons and practices taught\, it is highly recommended to attend all classes in the series. \nClass Topics: \n5/2:     Class 1 – The Web of Life\n5/9:     Class 2 – Shamanic Journeying\n5/16:   Class 3 – Working with Nature Spirits\n5/23:   Class 4 – Spirit Animals & Guides \n***We will skip class the week of 5/30 & 6/6\, and resume\nthe following week at the store’s new location.*** \n6/13:     Class 5 – The Medicine Wheel\n6/20 :  Class 6 – Integrating the Shamanic Path \n**PLEASE NOTE: Payments for all Events\, Classes\, and Rituals at The Green Man are non-refundable.** \nTO REGISTER & PAY FOR THE FULL SERIES\, CLICK BELOW: \n\n\n\n    \n\nTO REGISTER & PAY FOR A SINGLE CLASS\, CLICK BELOW:
URL:https://thegreenmanstore.com/event/intro-to-shamanism-with-jerel/2024-05-09/
LOCATION:The Green Man\, 824 North Hollywood Way\, Burbank\, CA\, 91505\, United States
CATEGORIES:Classes and Workshops
ATTACH;FMTTYPE=image/jpeg:https://thegreenmanstore.com/wp-content/uploads/2024/02/PHOTO-2024-04-13-15-33-05.jpg
GEO:34.1744781;-118.3800964
X-APPLE-STRUCTURED-LOCATION;VALUE=URI;X-ADDRESS=The Green Man 824 North Hollywood Way Burbank CA 91505 United States;X-APPLE-RADIUS=500;X-TITLE=824 North Hollywood Way:geo:-118.3800964,34.1744781
END:VEVENT
BEGIN:VEVENT
DTSTART;TZID=America/Los_Angeles:20240516T193000
DTEND;TZID=America/Los_Angeles:20240516T220000
DTSTAMP:20260425T134008
CREATED:20240227T221504Z
LAST-MODIFIED:20240619T232555Z
UID:10002434-1715887800-1715896800@thegreenmanstore.com
SUMMARY:Intro to Shamanism with Jerel
DESCRIPTION:AN INTRODUCTION TO SHAMANISM\nA 6-week In-Person Series w/ Jerel\nThursday Nights at 7:30pm\nMay 2 – June 13\, 2024\nPrice: $33 /single class | $153 /full series \nShamanism is an earth/ nature-based spiritual path found in many indigenous\, as well as modern\, traditions around the world. Throughout history the shaman was someone who\, within their tribe or community\, played many roles: healer\, diviner\, storyteller\, counselor\, priest\, leader. As such\, Shamans have been able to guide and heal their communities through their connection with spirits of the land\, their skill in tracking problematic patterns and energies\, and their ability to travel between the spirit realms. Presently\, there has been a resurgence of interest for Shamanism\, leading many people onto a path of healing and growth through reclaiming their lives on a physical\, emotional and spiritual level. \nIf you are new to Shamanism\, or simply want to learn more about it\, this series will help you cultivate an understanding of a Shamanic worldview. In this series we will explore and discuss the various commonalities amongst Shamanic traditions from around the world\, and demonstrate simple ways in which you may incorporate Shamanic practices and skills into your own spiritual practices and everyday lives. \nThis will be a 6-Week Series Class\, wherein each class will meet every Thursday night between 7:30pm – 10pm\, from May 2nd to June 13th. ***We will skip class the week of 5/30\, and resume\nthe following week at the The Green Man Store’s new location. New Store Location details will be discussed in class.*** \nThroughout the series\, each class will delve into a different fundamental theme within the study of Shamanism. While the option of “dropping in” at any point in the series is open\, to fully\, and cohesively\, benefit from the lessons and practices taught\, it is highly recommended to attend all classes in the series. \nClass Topics: \n5/2:     Class 1 – The Web of Life\n5/9:     Class 2 – Shamanic Journeying\n5/16:   Class 3 – Working with Nature Spirits\n5/23:   Class 4 – Spirit Animals & Guides \n***We will skip class the week of 5/30 & 6/6\, and resume\nthe following week at the store’s new location.*** \n6/13:     Class 5 – The Medicine Wheel\n6/20 :  Class 6 – Integrating the Shamanic Path \n**PLEASE NOTE: Payments for all Events\, Classes\, and Rituals at The Green Man are non-refundable.** \nTO REGISTER & PAY FOR THE FULL SERIES\, CLICK BELOW: \n\n\n\n    \n\nTO REGISTER & PAY FOR A SINGLE CLASS\, CLICK BELOW:
URL:https://thegreenmanstore.com/event/intro-to-shamanism-with-jerel/2024-05-16/
LOCATION:The Green Man\, 824 North Hollywood Way\, Burbank\, CA\, 91505\, United States
CATEGORIES:Classes and Workshops
ATTACH;FMTTYPE=image/jpeg:https://thegreenmanstore.com/wp-content/uploads/2024/02/PHOTO-2024-04-13-15-33-05.jpg
GEO:34.1744781;-118.3800964
X-APPLE-STRUCTURED-LOCATION;VALUE=URI;X-ADDRESS=The Green Man 824 North Hollywood Way Burbank CA 91505 United States;X-APPLE-RADIUS=500;X-TITLE=824 North Hollywood Way:geo:-118.3800964,34.1744781
END:VEVENT
BEGIN:VEVENT
DTSTART;TZID=America/Los_Angeles:20240523T193000
DTEND;TZID=America/Los_Angeles:20240523T220000
DTSTAMP:20260425T134008
CREATED:20240227T221504Z
LAST-MODIFIED:20240619T232555Z
UID:10002435-1716492600-1716501600@thegreenmanstore.com
SUMMARY:Intro to Shamanism with Jerel
DESCRIPTION:AN INTRODUCTION TO SHAMANISM\nA 6-week In-Person Series w/ Jerel\nThursday Nights at 7:30pm\nMay 2 – June 13\, 2024\nPrice: $33 /single class | $153 /full series \nShamanism is an earth/ nature-based spiritual path found in many indigenous\, as well as modern\, traditions around the world. Throughout history the shaman was someone who\, within their tribe or community\, played many roles: healer\, diviner\, storyteller\, counselor\, priest\, leader. As such\, Shamans have been able to guide and heal their communities through their connection with spirits of the land\, their skill in tracking problematic patterns and energies\, and their ability to travel between the spirit realms. Presently\, there has been a resurgence of interest for Shamanism\, leading many people onto a path of healing and growth through reclaiming their lives on a physical\, emotional and spiritual level. \nIf you are new to Shamanism\, or simply want to learn more about it\, this series will help you cultivate an understanding of a Shamanic worldview. In this series we will explore and discuss the various commonalities amongst Shamanic traditions from around the world\, and demonstrate simple ways in which you may incorporate Shamanic practices and skills into your own spiritual practices and everyday lives. \nThis will be a 6-Week Series Class\, wherein each class will meet every Thursday night between 7:30pm – 10pm\, from May 2nd to June 13th. ***We will skip class the week of 5/30\, and resume\nthe following week at the The Green Man Store’s new location. New Store Location details will be discussed in class.*** \nThroughout the series\, each class will delve into a different fundamental theme within the study of Shamanism. While the option of “dropping in” at any point in the series is open\, to fully\, and cohesively\, benefit from the lessons and practices taught\, it is highly recommended to attend all classes in the series. \nClass Topics: \n5/2:     Class 1 – The Web of Life\n5/9:     Class 2 – Shamanic Journeying\n5/16:   Class 3 – Working with Nature Spirits\n5/23:   Class 4 – Spirit Animals & Guides \n***We will skip class the week of 5/30 & 6/6\, and resume\nthe following week at the store’s new location.*** \n6/13:     Class 5 – The Medicine Wheel\n6/20 :  Class 6 – Integrating the Shamanic Path \n**PLEASE NOTE: Payments for all Events\, Classes\, and Rituals at The Green Man are non-refundable.** \nTO REGISTER & PAY FOR THE FULL SERIES\, CLICK BELOW: \n\n\n\n    \n\nTO REGISTER & PAY FOR A SINGLE CLASS\, CLICK BELOW:
URL:https://thegreenmanstore.com/event/intro-to-shamanism-with-jerel/2024-05-23/
LOCATION:The Green Man\, 824 North Hollywood Way\, Burbank\, CA\, 91505\, United States
CATEGORIES:Classes and Workshops
ATTACH;FMTTYPE=image/jpeg:https://thegreenmanstore.com/wp-content/uploads/2024/02/PHOTO-2024-04-13-15-33-05.jpg
GEO:34.1744781;-118.3800964
X-APPLE-STRUCTURED-LOCATION;VALUE=URI;X-ADDRESS=The Green Man 824 North Hollywood Way Burbank CA 91505 United States;X-APPLE-RADIUS=500;X-TITLE=824 North Hollywood Way:geo:-118.3800964,34.1744781
END:VEVENT
END:VCALENDAR