
BEGIN:VCALENDAR
VERSION:2.0
PRODID:-//The Green Man Store - ECPv6.15.17//NONSGML v1.0//EN
CALSCALE:GREGORIAN
METHOD:PUBLISH
X-WR-CALNAME:The Green Man Store
X-ORIGINAL-URL:https://thegreenmanstore.com
X-WR-CALDESC:Events for The Green Man Store
REFRESH-INTERVAL;VALUE=DURATION:PT1H
X-Robots-Tag:noindex
X-PUBLISHED-TTL:PT1H
BEGIN:VTIMEZONE
TZID:America/Los_Angeles
BEGIN:DAYLIGHT
TZOFFSETFROM:-0800
TZOFFSETTO:-0700
TZNAME:PDT
DTSTART:20230312T100000
END:DAYLIGHT
BEGIN:STANDARD
TZOFFSETFROM:-0700
TZOFFSETTO:-0800
TZNAME:PST
DTSTART:20231105T090000
END:STANDARD
BEGIN:DAYLIGHT
TZOFFSETFROM:-0800
TZOFFSETTO:-0700
TZNAME:PDT
DTSTART:20240310T100000
END:DAYLIGHT
BEGIN:STANDARD
TZOFFSETFROM:-0700
TZOFFSETTO:-0800
TZNAME:PST
DTSTART:20241103T090000
END:STANDARD
BEGIN:DAYLIGHT
TZOFFSETFROM:-0800
TZOFFSETTO:-0700
TZNAME:PDT
DTSTART:20250309T100000
END:DAYLIGHT
BEGIN:STANDARD
TZOFFSETFROM:-0700
TZOFFSETTO:-0800
TZNAME:PST
DTSTART:20251102T090000
END:STANDARD
END:VTIMEZONE
BEGIN:VEVENT
DTSTART;TZID=America/Los_Angeles:20240921T200000
DTEND;TZID=America/Los_Angeles:20240921T223000
DTSTAMP:20260425T202220
CREATED:20240823T154522Z
LAST-MODIFIED:20240823T154522Z
UID:10002615-1726948800-1726957800@thegreenmanstore.com
SUMMARY:Fall Equinox ritual with Raven’s Cry Grove\, ADF
DESCRIPTION:Join us for our Raven’s Cry Grove\, ADF Fall Equinox Celebration in the Norse tradition. This is a celebration of the second harvest\, the harvest of fruits and vegetables. This time of year begins the descent of the light\, as the sun descends into the depths of darkness and death for the remainder of the year. Join us as we make offerings to the Spirits of the Land. We will honor and make offerings to Freyr Yngve and Odin in preparation for the dark season ahead. In the spirit of sharing the harvest with the heart of our community\, please consider bringing an item of canned food which we will provide to a local food bank. \nAfter ritual we all can enjoy potluck – please bring a dish to share.\nThe ritual will be indoors.\nThere are chairs available for those who cannot stand for a whole ritual.\nTo help us present excellent public rituals and support Pagan Pride LA/OC Sempervirens Fund and other charities\, please consider a $15 donation. No one will be turned away for lack of funds. Donations may also be made on our website.\nAlso\, see “For Our Guests” on our website http://ravenscrygrove.org
URL:https://thegreenmanstore.com/event/fall-equinox-ritual-with-ravens-cry-grove-adf/
LOCATION:The Green Man\, 824 North Hollywood Way\, Burbank\, CA\, 91505\, United States
CATEGORIES:Group Rituals, Ceremonies, and Workings,Sabbats
ATTACH;FMTTYPE=image/jpeg:https://thegreenmanstore.com/wp-content/uploads/2024/08/image0.jpeg
GEO:34.1744781;-118.3800964
X-APPLE-STRUCTURED-LOCATION;VALUE=URI;X-ADDRESS=The Green Man 824 North Hollywood Way Burbank CA 91505 United States;X-APPLE-RADIUS=500;X-TITLE=824 North Hollywood Way:geo:-118.3800964,34.1744781
END:VEVENT
END:VCALENDAR