
BEGIN:VCALENDAR
VERSION:2.0
PRODID:-//The Green Man Store - ECPv6.15.17//NONSGML v1.0//EN
CALSCALE:GREGORIAN
METHOD:PUBLISH
X-WR-CALNAME:The Green Man Store
X-ORIGINAL-URL:https://thegreenmanstore.com
X-WR-CALDESC:Events for The Green Man Store
REFRESH-INTERVAL;VALUE=DURATION:PT1H
X-Robots-Tag:noindex
X-PUBLISHED-TTL:PT1H
BEGIN:VTIMEZONE
TZID:America/Los_Angeles
BEGIN:DAYLIGHT
TZOFFSETFROM:-0800
TZOFFSETTO:-0700
TZNAME:PDT
DTSTART:20230312T100000
END:DAYLIGHT
BEGIN:STANDARD
TZOFFSETFROM:-0700
TZOFFSETTO:-0800
TZNAME:PST
DTSTART:20231105T090000
END:STANDARD
BEGIN:DAYLIGHT
TZOFFSETFROM:-0800
TZOFFSETTO:-0700
TZNAME:PDT
DTSTART:20240310T100000
END:DAYLIGHT
BEGIN:STANDARD
TZOFFSETFROM:-0700
TZOFFSETTO:-0800
TZNAME:PST
DTSTART:20241103T090000
END:STANDARD
BEGIN:DAYLIGHT
TZOFFSETFROM:-0800
TZOFFSETTO:-0700
TZNAME:PDT
DTSTART:20250309T100000
END:DAYLIGHT
BEGIN:STANDARD
TZOFFSETFROM:-0700
TZOFFSETTO:-0800
TZNAME:PST
DTSTART:20251102T090000
END:STANDARD
BEGIN:DAYLIGHT
TZOFFSETFROM:-0800
TZOFFSETTO:-0700
TZNAME:PDT
DTSTART:20260308T100000
END:DAYLIGHT
BEGIN:STANDARD
TZOFFSETFROM:-0700
TZOFFSETTO:-0800
TZNAME:PST
DTSTART:20261101T090000
END:STANDARD
END:VTIMEZONE
BEGIN:VEVENT
DTSTART;TZID=America/Los_Angeles:20241231T120000
DTEND;TZID=America/Los_Angeles:20241231T160000
DTSTAMP:20260424T132137
CREATED:20161207T233007Z
LAST-MODIFIED:20241210T233547Z
UID:10000072-1735646400-1735660800@thegreenmanstore.com
SUMMARY:STORE CLOSES EARLY TODAY
DESCRIPTION:In the interest of getting our staff team home safely for the Holiday\, we are closing at 4pm on New Years Eve. Come in and see us between 12pm and 4pm!
URL:https://thegreenmanstore.com/event/newyearseve-close-2024/
LOCATION:The Green Man\, 824 North Hollywood Way\, Burbank\, CA\, 91505\, United States
CATEGORIES:Special Store Closures
GEO:34.1744781;-118.3800964
X-APPLE-STRUCTURED-LOCATION;VALUE=URI;X-ADDRESS=The Green Man 824 North Hollywood Way Burbank CA 91505 United States;X-APPLE-RADIUS=500;X-TITLE=824 North Hollywood Way:geo:-118.3800964,34.1744781
END:VEVENT
BEGIN:VEVENT
DTSTART;TZID=America/Los_Angeles:20250101T120000
DTEND;TZID=America/Los_Angeles:20250101T190000
DTSTAMP:20260424T132137
CREATED:20241210T234024Z
LAST-MODIFIED:20241210T234024Z
UID:10002692-1735732800-1735758000@thegreenmanstore.com
SUMMARY:New Years Day - Store closed all day
DESCRIPTION:We will be closed all day on January 1 in observation of the holiday. We will also be closed all day January 2 for inventory. We look forward to seeing you when our regular hours resume on January 3rd. Have a safe and happy holiday!
URL:https://thegreenmanstore.com/event/new-years-day-store-closed-2025/
LOCATION:The Green Man\, 824 North Hollywood Way\, Burbank\, CA\, 91505\, United States
CATEGORIES:Special Store Closures
GEO:34.1744781;-118.3800964
X-APPLE-STRUCTURED-LOCATION;VALUE=URI;X-ADDRESS=The Green Man 824 North Hollywood Way Burbank CA 91505 United States;X-APPLE-RADIUS=500;X-TITLE=824 North Hollywood Way:geo:-118.3800964,34.1744781
END:VEVENT
BEGIN:VEVENT
DTSTART;VALUE=DATE:20250102
DTEND;VALUE=DATE:20250104
DTSTAMP:20260424T132137
CREATED:20241210T234205Z
LAST-MODIFIED:20241210T234205Z
UID:10002693-1735801200-1735887599@thegreenmanstore.com
SUMMARY:Store closed for Inventory
DESCRIPTION:We will be closed all day January 2 for inventory. We look forward to seeing you when our regular hours resume on January 3rd. Have a safe and happy holiday!
URL:https://thegreenmanstore.com/event/store-closed-for-inventory-2025/
LOCATION:The Green Man\, 824 North Hollywood Way\, Burbank\, CA\, 91505\, United States
CATEGORIES:Special Store Closures
GEO:34.1744781;-118.3800964
X-APPLE-STRUCTURED-LOCATION;VALUE=URI;X-ADDRESS=The Green Man 824 North Hollywood Way Burbank CA 91505 United States;X-APPLE-RADIUS=500;X-TITLE=824 North Hollywood Way:geo:-118.3800964,34.1744781
END:VEVENT
END:VCALENDAR